BEGIN:VCALENDAR
VERSION:2.0
PRODID:-//ortenaukultur.de//NONSGML kigkonsult.se iCalcreator 2.41.92//
CALSCALE:GREGORIAN
METHOD:PUBLISH
UID:31343236-6133-4637-b663-323065373965
X-WR-TIMEZONE:Europe/Berlin
X-LIC-LOCATION:Europe/Berlin
BEGIN:VEVENT
UID:450125-kulturportal@ortenaukultur.de
DTSTAMP:20260421T205500Z
DESCRIPTION:Kurzbeschreibung:\n Am Abend vor dem 01. Mai findet in Oberharm
 ersbach das traditionelle Maibaumstellen statt.\n Ort:\n Rathausplatz\n Do
 rf 30\, 77784 Oberharmersbach\n Veranstalter:\n WKO und Gemeinde Oberharme
 rbach\n Termin:\n Beginn: 30.04.2026\, 18:00 Uhr\n Ende: 30.04.2026\n Link
 :\n Zur Detailseite
DTSTART;TZID=Europe/Berlin:20260430T180000
DTEND;TZID=Europe/Berlin:20260430T210000
LOCATION:Rathausplatz\, Dorf 30\, 77784 Oberharmersbach
SUMMARY:S'isch MaiFescht\, Rathausplatz
X-ALT-DESC;FMTTYPE=text/html:<strong>Kurzbeschreibung:</strong><br/>Am Aben
 d vor dem 01. Mai findet in Oberharmersbach das traditionelle Maibaumstell
 en statt. <br /><strong>Ort:</strong><br/>Rathausplatz<br/>Dorf 30\, 77784
  Oberharmersbach<br /><strong>Veranstalter:</strong><br/>WKO und Gemeinde 
 Oberharmerbach<br /><strong>Termin:</strong><br/>Beginn: 30.04.2026\, 18:0
 0 Uhr<br/>Ende: 30.04.2026<br /><strong>Link:</strong><br/><a href='https:
 //ortenaukultur.de/de/veranstaltungen/detail/veranstaltung/id/450125-s-isc
 h-maifescht/?vt=1'>Zur Detailseite</a>
END:VEVENT
END:VCALENDAR
