BEGIN:VCALENDAR
VERSION:2.0
PRODID:-//ortenaukultur.de//NONSGML kigkonsult.se iCalcreator 2.41.92//
CALSCALE:GREGORIAN
METHOD:PUBLISH
UID:35373362-3161-4730-b831-363034623035
X-WR-TIMEZONE:Europe/Berlin
X-LIC-LOCATION:Europe/Berlin
BEGIN:VEVENT
UID:505694-kulturportal@ortenaukultur.de
DTSTAMP:20260422T022932Z
DESCRIPTION:Kurzbeschreibung:\n Konzert des Musikvereins Wittelbach Der Mus
 ikverein Wittelbach veranstaltet sein Frühjahrskonzert im Bürgerhaus in Se
 elbach.\n Ort:\n Bürgerhaus im Klostergarten\n Marktstraße 6\, 77960 Seelb
 ach\n Veranstalter:\n Musikverein Wittelbach e.V.\n Termin:\n Beginn: 25.0
 4.2026\, 20:00 Uhr\n Ende: 25.04.2026\n Link:\n Zur Detailseite
DTSTART;TZID=Europe/Berlin:20260425T200000
DTEND;TZID=Europe/Berlin:20260425T230000
LOCATION:Bürgerhaus im Klostergarten\, Marktstraße 6\, 77960 Seelbach
SUMMARY:Jahreskonzert MV Wittelbach\, Bürgerhaus im Klostergarten
X-ALT-DESC;FMTTYPE=text/html:<strong>Kurzbeschreibung:</strong><br/>Konzert
  des Musikvereins Wittelbach\nDer Musikverein Wittelbach veranstaltet sein
  Frühjahrskonzert im Bürgerhaus in Seelbach.\n<br /><strong>Ort:</strong><
 br/>Bürgerhaus im Klostergarten<br/>Marktstraße 6\, 77960 Seelbach<br /><s
 trong>Veranstalter:</strong><br/>Musikverein Wittelbach e.V.<br /><strong>
 Termin:</strong><br/>Beginn: 25.04.2026\, 20:00 Uhr<br/>Ende: 25.04.2026<b
 r /><strong>Link:</strong><br/><a href='https://ortenaukultur.de/de/verans
 taltungen/detail/veranstaltung/id/505694-jahreskonzert-mv-wittelbach/?vt=1
 '>Zur Detailseite</a>
END:VEVENT
END:VCALENDAR
