BEGIN:VCALENDAR
VERSION:2.0
PRODID:-//ortenaukultur.de//NONSGML kigkonsult.se iCalcreator 2.41.92//
CALSCALE:GREGORIAN
METHOD:PUBLISH
UID:31306131-3366-4261-b538-633131393463
X-WR-TIMEZONE:Europe/Berlin
X-LIC-LOCATION:Europe/Berlin
BEGIN:VEVENT
UID:508693-kulturportal@ortenaukultur.de
DTSTAMP:20260421T213817Z
DESCRIPTION:Kurzbeschreibung:\n Lebe\, liebe\, lache! Ein Programm zur Lebe
 nsfreude „Nichts lockt die Fröhlichkeit mehr an als die Lebenslust.“ - Ern
 st Ferstl\n Ort:\n Theaterwelt\, Kehl\n Veranstalter:\n Theaterwelt\n Term
 in:\n Beginn: 10.05.2026\n Ende: 10.05.2026\n Tickets:\n info@theater-welt
 .de\n 17€ / 15€ ermäßigt\n Link:\n Zur Detailseite
DTSTART;TZID=Europe/Berlin:20260510T000000
DTEND;TZID=Europe/Berlin:20260510T030000
LOCATION:Theaterwelt\, Kehl
SUMMARY:Lebenslust\, Theaterwelt
X-ALT-DESC;FMTTYPE=text/html:<strong>Kurzbeschreibung:</strong><br/>Lebe\, 
 liebe\, lache!\nEin Programm zur Lebensfreude\n\n„Nichts lockt die Fröhlic
 hkeit mehr an als die Lebenslust.“ - Ernst Ferstl\n<br /><strong>Ort:</str
 ong><br/>Theaterwelt\, Kehl<br /><strong>Veranstalter:</strong><br/>Theate
 rwelt<br /><strong>Termin:</strong><br/>Beginn: 10.05.2026<br/>Ende: 10.05
 .2026<br /><strong>Tickets: </strong><br/><a  class='wco_cb_subtitle_link'
   id='ticketlink'  href='mailto:info@theater-welt.de' target='_blank' >inf
 o@theater-welt.de</a><br/>17€ / 15€ ermäßigt<br /><strong>Link:</strong><b
 r/><a href='https://ortenaukultur.de/de/veranstaltungen/detail/veranstaltu
 ng/id/508693-lebenslust/?vt=1'>Zur Detailseite</a>
END:VEVENT
END:VCALENDAR
