BEGIN:VCALENDAR
VERSION:2.0
PRODID:-//ortenaukultur.de//NONSGML kigkonsult.se iCalcreator 2.41.92//
CALSCALE:GREGORIAN
METHOD:PUBLISH
UID:37333864-6235-4162-b534-633438653833
X-WR-TIMEZONE:Europe/Berlin
X-LIC-LOCATION:Europe/Berlin
BEGIN:VEVENT
UID:512565-kulturportal@ortenaukultur.de
DTSTAMP:20260422T072714Z
DESCRIPTION:Kurzbeschreibung:\n Volksliedersingen für JederMann/Frau. Gemei
 nsam werden altbekannten Lieder angestimmt mit Akkordeonbegleitung.\n Ort:
 \n Gasthaus Posthörnle\n Talstr. 66\, 77784 Oberharmersbach\n Veranstalter
 :\n Volkslieder Singkreis\n Termin:\n Beginn: 24.04.2026\, 17:00 Uhr\n End
 e: 24.04.2026\n Tickets:\n Eintritt frei!\n Link:\n Zur Detailseite
DTSTART;TZID=Europe/Berlin:20260424T170000
DTEND;TZID=Europe/Berlin:20260424T200000
LOCATION:Gasthaus Posthörnle\, Talstr. 66\, 77784 Oberharmersbach
SUMMARY:Volksliedersingen im Gasthaus Posthörnle\, Gasthaus Posthörnle
X-ALT-DESC;FMTTYPE=text/html:<strong>Kurzbeschreibung:</strong><br/>Volksli
 edersingen für JederMann/Frau. Gemeinsam werden altbekannten Lieder angest
 immt mit Akkordeonbegleitung.<br /><strong>Ort:</strong><br/>Gasthaus Post
 hörnle<br/>Talstr. 66\, 77784 Oberharmersbach<br /><strong>Veranstalter:</
 strong><br/>Volkslieder Singkreis<br /><strong>Termin:</strong><br/>Beginn
 : 24.04.2026\, 17:00 Uhr<br/>Ende: 24.04.2026<br /><strong>Tickets: </stro
 ng><br/>Eintritt frei!<br /><strong>Link:</strong><br/><a href='https://or
 tenaukultur.de/de/veranstaltungen/detail/veranstaltung/id/512565-volkslied
 ersingen-im-gasthaus-posthoernle/?vt=1'>Zur Detailseite</a>
END:VEVENT
END:VCALENDAR
