BEGIN:VCALENDAR
VERSION:2.0
PRODID:-//ortenaukultur.de//NONSGML kigkonsult.se iCalcreator 2.41.92//
CALSCALE:GREGORIAN
METHOD:PUBLISH
UID:34613834-6362-4439-a361-336238313639
X-WR-TIMEZONE:Europe/Berlin
X-LIC-LOCATION:Europe/Berlin
BEGIN:VEVENT
UID:536606-kulturportal@ortenaukultur.de
DTSTAMP:20260422T023215Z
DESCRIPTION:Kurzbeschreibung:\n Weinstadt Offenburg - erleben und genießen.
  Die Offenburger Stadtgeschichte ist seit jeher eng mit dem Wein verbunden
 .\n Blitzinfo:\n Diese Veranstaltung ist ausgebucht.\n Ort:\n Innenstadt\n
  Hauptstrasse\, 77654 Offenburg\n Veranstalter:\n Stadt Offenburg - Stadtm
 arketing\n Termin:\n Beginn: 25.04.2026\n Ende: 25.04.2026\n Tickets:\n 17
  Euro pro Person. Kein Ausschank an Personen unter 16 Jahren.\n Link:\n Zu
 r Detailseite
DTSTART;TZID=Europe/Berlin:20260425T000000
DTEND;TZID=Europe/Berlin:20260425T030000
LOCATION:Innenstadt\, Hauptstrasse\, 77654 Offenburg
SUMMARY:Weinstadtführungen\, Offenburg
X-ALT-DESC;FMTTYPE=text/html:<strong>Kurzbeschreibung:</strong><br/>Weinsta
 dt Offenburg - erleben und genießen.  Die Offenburger Stadtgeschichte ist 
 seit jeher eng mit dem Wein verbunden.\n\n<br /><strong>Blitzinfo:</strong
 ><br/>Diese Veranstaltung ist ausgebucht.<br /><strong>Ort:</strong><br/>I
 nnenstadt<br/>Hauptstrasse\, 77654 Offenburg<br /><strong>Veranstalter:</s
 trong><br/>Stadt Offenburg - Stadtmarketing<br /><strong>Termin:</strong><
 br/>Beginn: 25.04.2026<br/>Ende: 25.04.2026<br /><strong>Tickets: </strong
 ><br/>17 Euro pro Person. Kein Ausschank an Personen unter 16 Jahren.<br /
 ><strong>Link:</strong><br/><a href='https://ortenaukultur.de/de/veranstal
 tungen/detail/veranstaltung/id/536606-weinstadtfuehrungen/?vt=1'>Zur Detai
 lseite</a>
END:VEVENT
END:VCALENDAR
