BEGIN:VCALENDAR
VERSION:2.0
PRODID:-//ortenaukultur.de//NONSGML kigkonsult.se iCalcreator 2.41.92//
CALSCALE:GREGORIAN
METHOD:PUBLISH
UID:37333331-3935-4934-b833-343866656339
X-WR-TIMEZONE:Europe/Berlin
X-LIC-LOCATION:Europe/Berlin
BEGIN:VEVENT
UID:537512-kulturportal@ortenaukultur.de
DTSTAMP:20260421T190952Z
DESCRIPTION:Kurzbeschreibung:\n 1. Mai - Hock mit Feldgottesdienst auf dem 
 Flachenberg (Modellflugplatz)\n Ort:\n Flachenberg\, Mühlenbach\n Veransta
 lter:\n Kolpingsfamilie Mühlenbach\n Termin:\n Beginn: 01.05.2026\, 10:00 
 Uhr\n Ende: 01.05.2026\n Link:\n Zur Detailseite
DTSTART;TZID=Europe/Berlin:20260501T100000
DTEND;TZID=Europe/Berlin:20260501T130000
LOCATION:Flachenberg\, Mühlenbach
SUMMARY:Maihock auf dem Flachenberg\, Flachenberg
X-ALT-DESC;FMTTYPE=text/html:<strong>Kurzbeschreibung:</strong><br/>1. Mai 
 - Hock mit Feldgottesdienst auf dem Flachenberg (Modellflugplatz)<br /><st
 rong>Ort:</strong><br/>Flachenberg\, Mühlenbach<br /><strong>Veranstalter:
 </strong><br/>Kolpingsfamilie Mühlenbach<br /><strong>Termin:</strong><br/
 >Beginn: 01.05.2026\, 10:00 Uhr<br/>Ende: 01.05.2026<br /><strong>Link:</s
 trong><br/><a href='https://ortenaukultur.de/de/veranstaltungen/detail/ver
 anstaltung/id/537512-maihock-auf-dem-flachenberg/?vt=1'>Zur Detailseite</a
 >
END:VEVENT
END:VCALENDAR
