BEGIN:VCALENDAR
VERSION:2.0
PRODID:-//ortenaukultur.de//NONSGML kigkonsult.se iCalcreator 2.41.92//
CALSCALE:GREGORIAN
METHOD:PUBLISH
UID:66303932-3030-4863-b931-323965666535
X-WR-TIMEZONE:Europe/Berlin
X-LIC-LOCATION:Europe/Berlin
BEGIN:VEVENT
UID:547768-kulturportal@ortenaukultur.de
DTSTAMP:20260421T222533Z
DESCRIPTION:Kurzbeschreibung:\n DAS DING! Proben: mittwochs\, 15:30-17:00 U
 hr Ein Einstieg ist jederzeit möglich. ab 8 Jahren\n Ort:\n Schlachthof\n 
 Dreyspringstr. 16\, 77933 Lahr\n Veranstalter:\n BABEL Junges Theater BAde
 n ALsace - Lahr\n Termin:\n Beginn: 24.09.2025\, 15:30 Uhr\n Ende: 24.09.2
 025\n Tickets:\n Kostenlos\, Anmeldung erforderlich\n Link:\n Zur Detailse
 ite
DTSTART;TZID=Europe/Berlin:20250924T153000
DTEND;TZID=Europe/Berlin:20250924T183000
LOCATION:Schlachthof \, Dreyspringstr. 16\, 77933 Lahr
SUMMARY:Babel Kidiclub\, Schlachthof
X-ALT-DESC;FMTTYPE=text/html:<strong>Kurzbeschreibung:</strong><br/>DAS DIN
 G!\n\nProben: mittwochs\, 15:30-17:00 Uhr\nEin Einstieg ist jederzeit mögl
 ich. \nab 8 Jahren<br /><strong>Ort:</strong><br/>Schlachthof <br/>Dreyspr
 ingstr. 16\, 77933 Lahr<br /><strong>Veranstalter:</strong><br/>BABEL Jung
 es Theater BAden ALsace - Lahr<br /><strong>Termin:</strong><br/>Beginn: 2
 4.09.2025\, 15:30 Uhr<br/>Ende: 24.09.2025<br /><strong>Tickets: </strong>
 <br/>Kostenlos\, Anmeldung erforderlich<br /><strong>Link:</strong><br/><a
  href='https://ortenaukultur.de/de/veranstaltungen/detail/veranstaltung/id
 /547768-babel-kidiclub/?vt=1'>Zur Detailseite</a>
END:VEVENT
END:VCALENDAR
