BEGIN:VCALENDAR
VERSION:2.0
PRODID:-//ortenaukultur.de//NONSGML kigkonsult.se iCalcreator 2.41.92//
CALSCALE:GREGORIAN
METHOD:PUBLISH
UID:38396135-3966-4266-a639-383636636530
X-WR-TIMEZONE:Europe/Berlin
X-LIC-LOCATION:Europe/Berlin
BEGIN:VEVENT
UID:551628-kulturportal@ortenaukultur.de
DTSTAMP:20260421T204220Z
DESCRIPTION:Kurzbeschreibung:\n Der beliebte Flohmarkt in der Historischen 
 Fachwerkaltstadt hat einen ganz besonderen Flair.\n Ort:\n Historische Fac
 hwerkaltstadt\n Marktplatz\, 77716 Haslach\n Veranstalter:\n Marktorganisa
 tion Lehmann\n Termin:\n Beginn: 13.06.2026\, 09:00 Uhr\n Ende: 13.06.2026
 \n Link:\n Zur Detailseite
DTSTART;TZID=Europe/Berlin:20260613T090000
DTEND;TZID=Europe/Berlin:20260613T120000
LOCATION:Historische Fachwerkaltstadt\, Marktplatz\, 77716 Haslach
SUMMARY:Flohmarkt \, Historische Fachwerkaltstadt
X-ALT-DESC;FMTTYPE=text/html:<strong>Kurzbeschreibung:</strong><br/>Der bel
 iebte Flohmarkt in der Historischen Fachwerkaltstadt hat einen ganz besond
 eren Flair.<br /><strong>Ort:</strong><br/>Historische Fachwerkaltstadt<br
 />Marktplatz\, 77716 Haslach<br /><strong>Veranstalter:</strong><br/>Markt
 organisation Lehmann<br /><strong>Termin:</strong><br/>Beginn: 13.06.2026\
 , 09:00 Uhr<br/>Ende: 13.06.2026<br /><strong>Link:</strong><br/><a href='
 https://ortenaukultur.de/de/veranstaltungen/detail/veranstaltung/id/551628
 -flohmarkt/?vt=1'>Zur Detailseite</a>
END:VEVENT
END:VCALENDAR
