BEGIN:VCALENDAR
VERSION:2.0
PRODID:-//ortenaukultur.de//NONSGML kigkonsult.se iCalcreator 2.41.92//
CALSCALE:GREGORIAN
METHOD:PUBLISH
UID:30386635-3831-4331-a432-656231393133
X-WR-TIMEZONE:Europe/Berlin
X-LIC-LOCATION:Europe/Berlin
BEGIN:VEVENT
UID:559816-kulturportal@ortenaukultur.de
DTSTAMP:20260422T022540Z
DESCRIPTION:Kurzbeschreibung:\n Eine der bekanntesten und beliebtesten Cove
 rbands im Süden Deutschland live im S’Blumehäfele Ettenheim.\n Ort:\n Blum
 enhäfele Ettenheim\n Tullastraße 5a\, 77955 Ettenheim\n Veranstalter:\n Am
 ici Events\n Termin:\n Beginn: 25.04.2026\, 20:00 Uhr\n Ende: 25.04.2026\n
  Link:\n Zur Detailseite
DTSTART;TZID=Europe/Berlin:20260425T200000
DTEND;TZID=Europe/Berlin:20260425T230000
LOCATION:Blumenhäfele Ettenheim\, Tullastraße 5a\, 77955 Ettenheim
SUMMARY:John Amann & The Legends \, Blumenhäfele Ettenheim
X-ALT-DESC;FMTTYPE=text/html:<strong>Kurzbeschreibung:</strong><br/>Eine de
 r bekanntesten und beliebtesten Coverbands im Süden Deutschland live im S’
 Blumehäfele Ettenheim. <br /><strong>Ort:</strong><br/>Blumenhäfele Ettenh
 eim<br/>Tullastraße 5a\, 77955 Ettenheim<br /><strong>Veranstalter:</stron
 g><br/>Amici Events<br /><strong>Termin:</strong><br/>Beginn: 25.04.2026\,
  20:00 Uhr<br/>Ende: 25.04.2026<br /><strong>Link:</strong><br/><a href='h
 ttps://ortenaukultur.de/de/veranstaltungen/detail/veranstaltung/id/559816-
 john-amann-the-legends/?vt=1'>Zur Detailseite</a>
END:VEVENT
END:VCALENDAR
