BEGIN:VCALENDAR
VERSION:2.0
PRODID:-//ortenaukultur.de//NONSGML kigkonsult.se iCalcreator 2.41.92//
CALSCALE:GREGORIAN
METHOD:PUBLISH
UID:39343532-3263-4562-b632-333862363031
X-WR-TIMEZONE:Europe/Berlin
X-LIC-LOCATION:Europe/Berlin
BEGIN:VEVENT
UID:560873-kulturportal@ortenaukultur.de
DTSTAMP:20260421T231901Z
DESCRIPTION:Kurzbeschreibung:\n Im Rahmen der Veranstaltungsreihe 'Musik im
  Storchenturm' einen akustischen Leckerbissen genießen. Saxophon-Quartett 
 des Blasorchesters Biberach/Baden zu Gast.\n Ort:\n Storchenturm Museum\n 
 Kanzleiplatz\, 77736 Zell am Harmersbach\n Veranstalter:\n Kultur und Stad
 tmarketing\n Termin:\n Beginn: 24.04.2026\, 19:00 Uhr\n Ende: 24.04.2026\n
  Tickets:\n 10€ p.P. an der Abendkasse\n Link:\n Zur Detailseite
DTSTART;TZID=Europe/Berlin:20260424T190000
DTEND;TZID=Europe/Berlin:20260424T220000
LOCATION:Storchenturm Museum\, Kanzleiplatz\, 77736 Zell am Harmersbach
SUMMARY:Musik im Storchenturm - Konzert der außergewöhnlichen Klänge\, Stor
 chenturm Museum
X-ALT-DESC;FMTTYPE=text/html:<strong>Kurzbeschreibung:</strong><br/>Im Rahm
 en der Veranstaltungsreihe 'Musik im Storchenturm' einen akustischen Lecke
 rbissen genießen. Saxophon-Quartett des Blasorchesters Biberach/Baden zu G
 ast.<br /><strong>Ort:</strong><br/>Storchenturm Museum<br/>Kanzleiplatz\,
  77736 Zell am Harmersbach<br /><strong>Veranstalter:</strong><br/>Kultur 
 und Stadtmarketing<br /><strong>Termin:</strong><br/>Beginn: 24.04.2026\, 
 19:00 Uhr<br/>Ende: 24.04.2026<br /><strong>Tickets: </strong><br/>10€ p.P
 . an der Abendkasse<br /><strong>Link:</strong><br/><a href='https://orten
 aukultur.de/de/veranstaltungen/detail/veranstaltung/id/560873-musik-im-sto
 rchenturm-konzert-der-aussergewoehnlichen-klaenge/?vt=1'>Zur Detailseite</
 a>
END:VEVENT
END:VCALENDAR
