BEGIN:VCALENDAR
VERSION:2.0
PRODID:-//ortenaukultur.de//NONSGML kigkonsult.se iCalcreator 2.41.92//
CALSCALE:GREGORIAN
METHOD:PUBLISH
UID:30343835-6231-4939-b561-396663343666
X-WR-TIMEZONE:Europe/Berlin
X-LIC-LOCATION:Europe/Berlin
BEGIN:VEVENT
UID:564088-kulturportal@ortenaukultur.de
DTSTAMP:20260421T213724Z
DESCRIPTION:Kurzbeschreibung:\n Die Leseshow aus Texten\, Kabarett\, Stand-
 Up\, Sprachwitzen und weiteren Wort-Formaten mit Memes\, Bildern und geleg
 entlichen Songs!\n Ort:\n Das Kulturhaus.\n Am Läger 12\, 77694 Kehl\n Ver
 anstalter:\n Kulturbüro Kehl\n Termin:\n Beginn: 09.05.2026\n Ende: 09.05.
 2026\n Tickets:\n Tickets kaufen\n https://ortenaukultur.reservix.de/p/res
 ervix/event/2382426\n 1. Kategorie:\n bis 17\,50 € + Ermäßigung\n *Preise 
 inkl. MwSt.\n \n Link:\n Zur Detailseite
DTSTART;TZID=Europe/Berlin:20260509T000000
DTEND;TZID=Europe/Berlin:20260509T030000
LOCATION:Das Kulturhaus.\, Am Läger 12\, 77694 Kehl
SUMMARY:Luksan Wunder | DichtungsRing\, Das Kulturhaus.
X-ALT-DESC;FMTTYPE=text/html:<strong>Kurzbeschreibung:</strong><br/>Die Les
 eshow aus Texten\, Kabarett\, Stand-Up\, Sprachwitzen und weiteren Wort-Fo
 rmaten mit Memes\, Bildern und gelegentlichen Songs!<br /><strong>Ort:</st
 rong><br/>Das Kulturhaus.<br/>Am Läger 12\, 77694 Kehl<br /><strong>Verans
 talter:</strong><br/>Kulturbüro Kehl<br /><strong>Termin:</strong><br/>Beg
 inn: 09.05.2026<br/>Ende: 09.05.2026<br /><strong>Tickets: </strong><br/><
 a rel='asdf' href='https://ortenaukultur.de/de/veranstaltungen/detail/tick
 ets/id/564088-luksan-wunder-dichtungsring/?follow=https%253A%252F%252Forte
 naukultur.reservix.de%252Fp%252Freservix%252Fevent%252F2382426' target='_b
 lank' title='' id='ticketlink'>Tickets kaufen</a><br/>https://ortenaukultu
 r.reservix.de/p/reservix/event/2382426<br/><b>1. Kategorie: </b><br />bis 
 17\,50 &euro\;&nbsp\; + Ermäßigung<br />*Preise inkl. MwSt.<br /><br /><st
 rong>Link:</strong><br/><a href='https://ortenaukultur.de/de/veranstaltung
 en/detail/veranstaltung/id/564088-luksan-wunder-dichtungsring/?vt=1'>Zur D
 etailseite</a>
END:VEVENT
END:VCALENDAR
