BEGIN:VCALENDAR
VERSION:2.0
PRODID:-//ortenaukultur.de//NONSGML kigkonsult.se iCalcreator 2.41.92//
CALSCALE:GREGORIAN
METHOD:PUBLISH
UID:38313562-3065-4033-b665-653736356331
X-WR-TIMEZONE:Europe/Berlin
X-LIC-LOCATION:Europe/Berlin
BEGIN:VEVENT
UID:564253-kulturportal@ortenaukultur.de
DTSTAMP:20260422T005742Z
DESCRIPTION:Kurzbeschreibung:\n Leckeres in idyllischer Kiwilaube! P.P. 20\
 ,00 Euro\, Kinder bis 4 Jahre frei\, bis 10 Jahre 9\,50 Euro. Anmeldung Te
 l. 07838 663\, info@heidenbuehl-hof.de.\n Ort:\n Heidenbühlhof\n Heidenbüh
 l 2\, 77787 Nordrach\n Veranstalter:\n Heidenbühlhof\n Termin:\n Beginn: 1
 4.06.2026\n Ende: 14.06.2026\n Link:\n Zur Detailseite
DTSTART;TZID=Europe/Berlin:20260614T000000
DTEND;TZID=Europe/Berlin:20260614T030000
LOCATION:Heidenbühlhof\, Heidenbühl 2\, 77787 Nordrach
SUMMARY:Genießerfrühstück in paradiesischer Natur auf dem Heidenbühlhof\, H
 eidenbühlhof
X-ALT-DESC;FMTTYPE=text/html:<strong>Kurzbeschreibung:</strong><br/>Leckere
 s in idyllischer Kiwilaube! P.P. 20\,00 Euro\, Kinder bis 4 Jahre frei\, b
 is 10 Jahre 9\,50 Euro. Anmeldung Tel. 07838 663\, info@heidenbuehl-hof.de
 .<br /><strong>Ort:</strong><br/>Heidenbühlhof<br/>Heidenbühl 2\, 77787 No
 rdrach<br /><strong>Veranstalter:</strong><br/>Heidenbühlhof<br /><strong>
 Termin:</strong><br/>Beginn: 14.06.2026<br/>Ende: 14.06.2026<br /><strong>
 Link:</strong><br/><a href='https://ortenaukultur.de/de/veranstaltungen/de
 tail/veranstaltung/id/564253-geniesserfruehstueck-in-paradiesischer-natur-
 auf-dem-heidenbuehlhof/?vt=1'>Zur Detailseite</a>
END:VEVENT
END:VCALENDAR
