BEGIN:VCALENDAR
VERSION:2.0
PRODID:-//ortenaukultur.de//NONSGML kigkonsult.se iCalcreator 2.41.92//
CALSCALE:GREGORIAN
METHOD:PUBLISH
UID:39393836-3964-4662-b838-633233393565
X-WR-TIMEZONE:Europe/Berlin
X-LIC-LOCATION:Europe/Berlin
BEGIN:VEVENT
UID:565731-kulturportal@ortenaukultur.de
DTSTAMP:20260422T020031Z
DESCRIPTION:Kurzbeschreibung:\n Gönne dir eine Pause vom Alltag und erlebe 
 die wohltuende Wirkung von Yoga unter freiem Himmel. Genieße im Anschluss 
 einen leckeren Sundowner und die Aussicht.\n Ort:\n zum Heuberg\n Heubergs
 traße\, 77955 Ettenheim\n Veranstalter:\n Weingut Weber\n Termin:\n Beginn
 : 03.06.2026\, 18:00 Uhr\n Ende: 03.06.2026\n Link:\n Zur Detailseite
DTSTART;TZID=Europe/Berlin:20260603T180000
DTEND;TZID=Europe/Berlin:20260603T210000
LOCATION:zum Heuberg\, Heubergstraße\, 77955 Ettenheim
SUMMARY:YOGA x SUNDOWNER auf dem Heuberg\, zum Heuberg
X-ALT-DESC;FMTTYPE=text/html:<strong>Kurzbeschreibung:</strong><br/>Gönne d
 ir eine Pause vom Alltag und erlebe die wohltuende Wirkung von Yoga unter 
 freiem Himmel. Genieße im Anschluss einen leckeren Sundowner und die Aussi
 cht.<br /><strong>Ort:</strong><br/>zum Heuberg<br/>Heubergstraße\, 77955 
 Ettenheim<br /><strong>Veranstalter:</strong><br/>Weingut Weber<br /><stro
 ng>Termin:</strong><br/>Beginn: 03.06.2026\, 18:00 Uhr<br/>Ende: 03.06.202
 6<br /><strong>Link:</strong><br/><a href='https://ortenaukultur.de/de/ver
 anstaltungen/detail/veranstaltung/id/565731-yoga-x-sundowner-auf-dem-heube
 rg/?vt=1'>Zur Detailseite</a>
END:VEVENT
END:VCALENDAR
