BEGIN:VCALENDAR
VERSION:2.0
PRODID:-//ortenaukultur.de//NONSGML kigkonsult.se iCalcreator 2.41.92//
CALSCALE:GREGORIAN
METHOD:PUBLISH
UID:30386630-3530-4833-a362-343035376631
X-WR-TIMEZONE:Europe/Berlin
X-LIC-LOCATION:Europe/Berlin
BEGIN:VEVENT
UID:570639-kulturportal@ortenaukultur.de
DTSTAMP:20260422T060451Z
DESCRIPTION:Kurzbeschreibung:\n Die Musiker begeben sich auf eine Reise zum
  Mond mit einer erlesenen Passagierliste: Schubert\, die Schumanns\, Brahm
 s\, Fauré\, Debussy\, Radiohead und Tom Waits.\n Ort:\n Alte Kirche Fauten
 bach\n Mühlenstr. 15\, 77855 Achern-Fautenbach\n Veranstalter:\n Stadt Ach
 ern - FG 3.3 Kultur\n Termin:\n Beginn: 03.05.2026\, 11:00 Uhr\n Ende: 03.
 05.2026\n Tickets:\n Tickets kaufen\n https://ortenaukultur.reservix.de/p/
 reservix/event/2417526\n 1. Kategorie:\n bis 28\,00 € + Ermäßigung\n 2. Ka
 tegorie:\n bis 25\,00 € + Ermäßigung\n *Preise inkl. MwSt.\n \n Link:\n Zu
 r Detailseite
DTSTART;TZID=Europe/Berlin:20260503T110000
DTEND;TZID=Europe/Berlin:20260503T140000
LOCATION:Alte Kirche Fautenbach\, Mühlenstr. 15\, 77855 Achern-Fautenbach
SUMMARY:Trio Belli-Fischer-Rimmer - Trip to the Moon\, Alte Kirche Fautenba
 ch
X-ALT-DESC;FMTTYPE=text/html:<strong>Kurzbeschreibung:</strong><br/>Die Mus
 iker begeben sich auf eine Reise zum Mond mit einer erlesenen Passagierlis
 te: Schubert\, die Schumanns\, Brahms\, Fauré\, Debussy\, Radiohead und To
 m Waits.<br /><strong>Ort:</strong><br/>Alte Kirche Fautenbach<br/>Mühlens
 tr. 15\, 77855 Achern-Fautenbach<br /><strong>Veranstalter:</strong><br/>S
 tadt Achern - FG 3.3 Kultur<br /><strong>Termin:</strong><br/>Beginn: 03.0
 5.2026\, 11:00 Uhr<br/>Ende: 03.05.2026<br /><strong>Tickets: </strong><br
 /><a rel='asdf' href='https://ortenaukultur.de/de/veranstaltungen/detail/t
 ickets/id/570639-trio-belli-fischer-rimmer-trip-to-the-moon/?follow=https%
 253A%252F%252Fortenaukultur.reservix.de%252Fp%252Freservix%252Fevent%252F2
 417526' target='_blank' title='' id='ticketlink'>Tickets kaufen</a><br/>ht
 tps://ortenaukultur.reservix.de/p/reservix/event/2417526<br/><b>1. Kategor
 ie: </b><br />bis 28\,00 &euro\;&nbsp\; + Ermäßigung<br /><b>2. Kategorie:
  </b><br />bis 25\,00 &euro\;&nbsp\; + Ermäßigung<br />*Preise inkl. MwSt.
 <br /><br /><strong>Link:</strong><br/><a href='https://ortenaukultur.de/d
 e/veranstaltungen/detail/veranstaltung/id/570639-trio-belli-fischer-rimmer
 -trip-to-the-moon/?vt=1'>Zur Detailseite</a>
END:VEVENT
END:VCALENDAR
