BEGIN:VCALENDAR
VERSION:2.0
PRODID:-//ortenaukultur.de//NONSGML kigkonsult.se iCalcreator 2.41.92//
CALSCALE:GREGORIAN
METHOD:PUBLISH
UID:63383963-3039-4839-b263-376234636637
X-WR-TIMEZONE:Europe/Berlin
X-LIC-LOCATION:Europe/Berlin
BEGIN:VEVENT
UID:573068-kulturportal@ortenaukultur.de
DTSTAMP:20260422T005430Z
DESCRIPTION:Kurzbeschreibung:\n Comedy & Tragedy Das neue Programm von Hele
 ne Bockhorst ist eine Ode an das Leben.\n Ort:\n Reithalle im Kulturforum
 \n Moltkestraße 31\, 77654 Offenburg\n Veranstalter:\n Kulturbüro Offenbur
 g\n Termin:\n Beginn: 19.09.2026\, 20:00 Uhr\n Ende: 19.09.2026\n Tickets:
 \n Tickets kaufen\n https://ortenaukultur.reservix.de/p/reservix/event/242
 5202\n 1. Kategorie:\n bis 25\,20 € + Ermäßigung\n *Preise inkl. MwSt.\n 
 \n Link:\n Zur Detailseite
DTSTART;TZID=Europe/Berlin:20260919T200000
DTEND;TZID=Europe/Berlin:20260919T230000
LOCATION:Reithalle im Kulturforum\, Moltkestraße 31\, 77654 Offenburg
SUMMARY:Helene Bockhorst\, Reithalle im Kulturforum
X-ALT-DESC;FMTTYPE=text/html:<strong>Kurzbeschreibung:</strong><br/>Comedy 
 & Tragedy\nDas neue Programm von Helene Bockhorst ist eine Ode an das Lebe
 n.<br /><strong>Ort:</strong><br/>Reithalle im Kulturforum<br/>Moltkestraß
 e 31\, 77654 Offenburg<br /><strong>Veranstalter:</strong><br/>Kulturbüro 
 Offenburg<br /><strong>Termin:</strong><br/>Beginn: 19.09.2026\, 20:00 Uhr
 <br/>Ende: 19.09.2026<br /><strong>Tickets: </strong><br/><a rel='asdf' hr
 ef='https://ortenaukultur.de/de/veranstaltungen/detail/tickets/id/573068-h
 elene-bockhorst/?follow=https%253A%252F%252Fortenaukultur.reservix.de%252F
 p%252Freservix%252Fevent%252F2425202' target='_blank' title='' id='ticketl
 ink'>Tickets kaufen</a><br/>https://ortenaukultur.reservix.de/p/reservix/e
 vent/2425202<br/><b>1. Kategorie: </b><br />bis 25\,20 &euro\;&nbsp\; + Er
 mäßigung<br />*Preise inkl. MwSt.<br /><br /><strong>Link:</strong><br/><a
  href='https://ortenaukultur.de/de/veranstaltungen/detail/veranstaltung/id
 /573068-helene-bockhorst/?vt=1'>Zur Detailseite</a>
END:VEVENT
END:VCALENDAR
