BEGIN:VCALENDAR
VERSION:2.0
PRODID:-//ortenaukultur.de//NONSGML kigkonsult.se iCalcreator 2.41.92//
CALSCALE:GREGORIAN
METHOD:PUBLISH
UID:64616563-6266-4862-a137-393231366537
X-WR-TIMEZONE:Europe/Berlin
X-LIC-LOCATION:Europe/Berlin
BEGIN:VEVENT
UID:574146-kulturportal@ortenaukultur.de
DTSTAMP:20260421T213840Z
DESCRIPTION:Kurzbeschreibung:\n Die Kunstwerke können vom 10.05. - 07.06.20
 25 in der Städtischen Galerie Lahr bestaunt werden.\n Ort:\n Städtische Ga
 lerie\, Altes Rathaus\n Kaiserstraße 1\, 77933 Lahr\n Veranstalter:\n Lahr
 Kultur\n Termin:\n Beginn: 10.05.2026\, 11:00 Uhr\n Ende: 10.05.2026\n Tic
 kets:\n kostenfrei\n Link:\n Zur Detailseite
DTSTART;TZID=Europe/Berlin:20260510T110000
DTEND;TZID=Europe/Berlin:20260510T140000
LOCATION:Städtische Galerie\, Altes Rathaus\, Kaiserstraße 1\, 77933 Lahr
SUMMARY:Rainer Zimmermann - Retrospektive\, Städtische Galerie\, Altes Rath
 aus
X-ALT-DESC;FMTTYPE=text/html:<strong>Kurzbeschreibung:</strong><br/>Die Kun
 stwerke können vom 10.05. - 07.06.2025 in der Städtischen Galerie Lahr bes
 taunt werden.<br /><strong>Ort:</strong><br/>Städtische Galerie\, Altes Ra
 thaus<br/>Kaiserstraße 1\, 77933 Lahr<br /><strong>Veranstalter:</strong><
 br/>LahrKultur<br /><strong>Termin:</strong><br/>Beginn: 10.05.2026\, 11:0
 0 Uhr<br/>Ende: 10.05.2026<br /><strong>Tickets: </strong><br/>kostenfrei<
 br /><strong>Link:</strong><br/><a href='https://ortenaukultur.de/de/veran
 staltungen/detail/veranstaltung/id/574146-rainer-zimmermann-retrospektive/
 ?vt=1'>Zur Detailseite</a>
END:VEVENT
END:VCALENDAR
