BEGIN:VCALENDAR
VERSION:2.0
PRODID:-//ortenaukultur.de//NONSGML kigkonsult.se iCalcreator 2.41.92//
CALSCALE:GREGORIAN
METHOD:PUBLISH
UID:39313431-3765-4333-b865-343239363366
X-WR-TIMEZONE:Europe/Berlin
X-LIC-LOCATION:Europe/Berlin
BEGIN:VEVENT
UID:578848-kulturportal@ortenaukultur.de
DTSTAMP:20260421T211501Z
DESCRIPTION:Kurzbeschreibung:\n Traditioneller Jahrmarkt in der Historische
 n Fachwerkaltstadt zur Sommersaison\n Ort:\n Historische Fachwerkaltstadt
 \n Marktplatz\, 77716 Haslach\n Veranstalter:\n Stadt Haslach\n Termin:\n 
 Beginn: 29.06.2026\n Ende: 29.06.2026\n Link:\n Zur Detailseite
DTSTART;TZID=Europe/Berlin:20260629T000000
DTEND;TZID=Europe/Berlin:20260629T030000
LOCATION:Historische Fachwerkaltstadt\, Marktplatz\, 77716 Haslach
SUMMARY:Heuetmarkt\, Historische Fachwerkaltstadt
X-ALT-DESC;FMTTYPE=text/html:<strong>Kurzbeschreibung:</strong><br/>Traditi
 oneller Jahrmarkt in der Historischen Fachwerkaltstadt zur Sommersaison<br
  /><strong>Ort:</strong><br/>Historische Fachwerkaltstadt<br/>Marktplatz\,
  77716 Haslach<br /><strong>Veranstalter:</strong><br/>Stadt Haslach<br />
 <strong>Termin:</strong><br/>Beginn: 29.06.2026<br/>Ende: 29.06.2026<br />
 <strong>Link:</strong><br/><a href='https://ortenaukultur.de/de/veranstalt
 ungen/detail/veranstaltung/id/578848-heuetmarkt/?vt=1'>Zur Detailseite</a>
END:VEVENT
END:VCALENDAR
