BEGIN:VCALENDAR
VERSION:2.0
PRODID:-//ortenaukultur.de//NONSGML kigkonsult.se iCalcreator 2.41.92//
CALSCALE:GREGORIAN
METHOD:PUBLISH
UID:63623130-6338-4433-a537-666563636631
X-WR-TIMEZONE:Europe/Berlin
X-LIC-LOCATION:Europe/Berlin
BEGIN:VEVENT
UID:579354-kulturportal@ortenaukultur.de
DTSTAMP:20260421T232646Z
DESCRIPTION:Kurzbeschreibung:\n Akkordeon‑Orchester Haslach/Kinzigtal lädt 
 zu abwechslungsreichem Konzertabend ein\n Ort:\n Stadthalle\n Hauptstraße 
 1a\, 77716 Haslach\n Veranstalter:\n Akkordeon-Orchester e.V. Haslach\n Te
 rmin:\n Beginn: 09.05.2026\, 20:00 Uhr\n Ende: 09.05.2026\n Tickets:\n Abe
 ndkasse 10\,00 Euro\n Link:\n Zur Detailseite
DTSTART;TZID=Europe/Berlin:20260509T200000
DTEND;TZID=Europe/Berlin:20260509T230000
LOCATION:Stadthalle\, Hauptstraße 1a\, 77716 Haslach
SUMMARY:Jahreskonzert des Akkordeon-Orchesters\, Stadthalle
X-ALT-DESC;FMTTYPE=text/html:<strong>Kurzbeschreibung:</strong><br/>Akkorde
 on‑Orchester Haslach/Kinzigtal lädt zu abwechslungsreichem Konzertabend ei
 n<br /><strong>Ort:</strong><br/>Stadthalle<br/>Hauptstraße 1a\, 77716 Has
 lach<br /><strong>Veranstalter:</strong><br/>Akkordeon-Orchester e.V. Hasl
 ach<br /><strong>Termin:</strong><br/>Beginn: 09.05.2026\, 20:00 Uhr<br/>E
 nde: 09.05.2026<br /><strong>Tickets: </strong><br/>Abendkasse 10\,00 Euro
 <br /><strong>Link:</strong><br/><a href='https://ortenaukultur.de/de/vera
 nstaltungen/detail/veranstaltung/id/579354-jahreskonzert-des-akkordeon-orc
 hesters/?vt=1'>Zur Detailseite</a>
END:VEVENT
END:VCALENDAR
