BEGIN:VCALENDAR
VERSION:2.0
PRODID:-//ortenaukultur.de//NONSGML kigkonsult.se iCalcreator 2.41.92//
CALSCALE:GREGORIAN
METHOD:PUBLISH
UID:61393664-6237-4366-a230-333961353431
X-WR-TIMEZONE:Europe/Berlin
X-LIC-LOCATION:Europe/Berlin
BEGIN:VEVENT
UID:579367-kulturportal@ortenaukultur.de
DTSTAMP:20260422T010120Z
DESCRIPTION:Kurzbeschreibung:\n Int. Haslacher Mineralientage - das Megaeve
 nt für alle Mineralienfreunde im Süddeutschen Raum und angrenzenden Länder
 n\n Ort:\n Stadthalle\n Hauptstraße 1a\, 77716 Haslach\n Veranstalter:\n F
 rieder und Gabriele Heizmann\n Termin:\n Beginn: 02.08.2026\, 11:00 Uhr\n 
 Ende: 02.08.2026\n Tickets:\n Tages-Ticket 6\,00 Euro\n 2-Tages-Ticket 8\,
 00 Euro\n Link:\n Zur Detailseite
DTSTART;TZID=Europe/Berlin:20260802T110000
DTEND;TZID=Europe/Berlin:20260802T140000
LOCATION:Stadthalle\, Hauptstraße 1a\, 77716 Haslach
SUMMARY:Festival der Kristalle\, Stadthalle
X-ALT-DESC;FMTTYPE=text/html:<strong>Kurzbeschreibung:</strong><br/>Int. Ha
 slacher Mineralientage - das Megaevent für alle Mineralienfreunde im Südde
 utschen Raum und angrenzenden Ländern<br /><strong>Ort:</strong><br/>Stadt
 halle<br/>Hauptstraße 1a\, 77716 Haslach<br /><strong>Veranstalter:</stron
 g><br/>Frieder und Gabriele Heizmann<br /><strong>Termin:</strong><br/>Beg
 inn: 02.08.2026\, 11:00 Uhr<br/>Ende: 02.08.2026<br /><strong>Tickets: </s
 trong><br/>Tages-Ticket 6\,00 Euro<br />\n2-Tages-Ticket 8\,00 Euro<br /><
 strong>Link:</strong><br/><a href='https://ortenaukultur.de/de/veranstaltu
 ngen/detail/veranstaltung/id/579367-festival-der-kristalle/?vt=1'>Zur Deta
 ilseite</a>
END:VEVENT
END:VCALENDAR
