BEGIN:VCALENDAR
VERSION:2.0
PRODID:-//ortenaukultur.de//NONSGML kigkonsult.se iCalcreator 2.41.92//
CALSCALE:GREGORIAN
METHOD:PUBLISH
UID:31326362-3736-4530-b430-636338333364
X-WR-TIMEZONE:Europe/Berlin
X-LIC-LOCATION:Europe/Berlin
BEGIN:VEVENT
UID:579456-kulturportal@ortenaukultur.de
DTSTAMP:20260421T214041Z
DESCRIPTION:Kurzbeschreibung:\n Barock pur: Larisch & Nyquist entfesseln mi
 t Cello und Cembalo ein Panorama voller Glanz\, Leidenschaft und Eleganz –
  Musikgenuss auf höchstem Niveau!\n Ort:\n Josefskirche - Hildboltsweier\,
  Dahlienweg 35\, 77656 Offenburg\, Offenburg\n Veranstalter:\n Einwohnerge
 meinschaft-Offenburg-Hildboltsweier e.V.\n Termin:\n Beginn: 09.05.2026\, 
 20:00 Uhr\n Ende: 09.05.2026\n Tickets:\n Tickets\n € 7\,50\n Link:\n Zur 
 Detailseite
DTSTART;TZID=Europe/Berlin:20260509T200000
DTEND;TZID=Europe/Berlin:20260509T230000
LOCATION:Josefskirche - Hildboltsweier\, Dahlienweg 35\, 77656 Offenburg\, 
 Offenburg
SUMMARY:Im Geschmack von sechs Nationen\, Josefskirche - Hildboltsweier\, D
 ahlienweg 35\, 77656 Offenburg
X-ALT-DESC;FMTTYPE=text/html:<strong>Kurzbeschreibung:</strong><br/>Barock 
 pur: Larisch & Nyquist entfesseln mit Cello und Cembalo ein Panorama volle
 r Glanz\, Leidenschaft und Eleganz – Musikgenuss auf höchstem Niveau!<br /
 ><strong>Ort:</strong><br/>Josefskirche - Hildboltsweier\, Dahlienweg 35\,
  77656 Offenburg\, Offenburg<br /><strong>Veranstalter:</strong><br/>Einwo
 hnergemeinschaft-Offenburg-Hildboltsweier e.V.<br /><strong>Termin:</stron
 g><br/>Beginn: 09.05.2026\, 20:00 Uhr<br/>Ende: 09.05.2026<br /><strong>Ti
 ckets: </strong><br/><a  class='wco_cb_subtitle_link'  id='ticketlink'  hr
 ef='mailto:ewg.kontakt@gmail.com' target='_blank' >Tickets</a><br/>€ 7\,50
 <br /><strong>Link:</strong><br/><a href='https://ortenaukultur.de/de/vera
 nstaltungen/detail/veranstaltung/id/579456-im-geschmack-von-sechs-nationen
 /?vt=1'>Zur Detailseite</a>
END:VEVENT
END:VCALENDAR
