BEGIN:VCALENDAR
VERSION:2.0
PRODID:-//ortenaukultur.de//NONSGML kigkonsult.se iCalcreator 2.41.92//
CALSCALE:GREGORIAN
METHOD:PUBLISH
UID:30303839-3238-4436-b132-336162393830
X-WR-TIMEZONE:Europe/Berlin
X-LIC-LOCATION:Europe/Berlin
BEGIN:VEVENT
UID:581018-kulturportal@ortenaukultur.de
DTSTAMP:20260421T231754Z
DESCRIPTION:Kurzbeschreibung:\n Outdoortheater mit der Gruppe 'TheaterFiebe
 r' im Kreuzgang des Alten Kapuzinerklosters\n Ort:\n Altes Kapuzinerkloste
 r\n Klosterstr. 1\, 77716 Haslach\n Veranstalter:\n Gruppe TheaterFieber\n
  Termin:\n Beginn: 18.07.2026\, 19:00 Uhr\n Ende: 18.07.2026\n Tickets:\n 
 Eintritt: 8\,00€\n Link:\n Zur Detailseite
DTSTART;TZID=Europe/Berlin:20260718T190000
DTEND;TZID=Europe/Berlin:20260718T220000
LOCATION:Altes Kapuzinerkloster\, Klosterstr. 1\, 77716 Haslach
SUMMARY:Outdoor Theater \, Altes Kapuzinerkloster
X-ALT-DESC;FMTTYPE=text/html:<strong>Kurzbeschreibung:</strong><br/>Outdoor
 theater mit der Gruppe 'TheaterFieber' im Kreuzgang des Alten Kapuzinerklo
 sters<br /><strong>Ort:</strong><br/>Altes Kapuzinerkloster<br/>Klosterstr
 . 1\, 77716 Haslach<br /><strong>Veranstalter:</strong><br/>Gruppe Theater
 Fieber<br /><strong>Termin:</strong><br/>Beginn: 18.07.2026\, 19:00 Uhr<br
 />Ende: 18.07.2026<br /><strong>Tickets: </strong><br/>Eintritt: 8\,00€<br
  /><strong>Link:</strong><br/><a href='https://ortenaukultur.de/de/veranst
 altungen/detail/veranstaltung/id/581018-outdoor-theater/?vt=1'>Zur Details
 eite</a>
END:VEVENT
END:VCALENDAR
