BEGIN:VCALENDAR
VERSION:2.0
PRODID:-//ortenaukultur.de//NONSGML kigkonsult.se iCalcreator 2.41.92//
CALSCALE:GREGORIAN
METHOD:PUBLISH
UID:35393937-3330-4530-a239-376366646635
X-WR-TIMEZONE:Europe/Berlin
X-LIC-LOCATION:Europe/Berlin
BEGIN:VEVENT
UID:581328-kulturportal@ortenaukultur.de
DTSTAMP:20260422T023040Z
DESCRIPTION:Kurzbeschreibung:\n Das Dorffest der Wiege des Renchtals! Gebor
 en aus der 1.000 Jahrfeier begeistert unser Fest nahezu jedes Jahr aufs ne
 ue die Menschen der Region.\n Ort:\n Festplatz Dorfmitte\, Renchtalstraße\
 , Oberkirch-Nußbach\n Veranstalter:\n Festgemeinschaft Nußbach GbR\n Termi
 n:\n Beginn: 22.08.2026\n Ende: 22.08.2026\n Link:\n Zur Detailseite
DTSTART;VALUE=DATE:20260822
DTEND;VALUE=DATE:20260823
LOCATION:Festplatz Dorfmitte\, Renchtalstraße\, Oberkirch-Nußbach
SUMMARY:Dorffest in Nußbach\, Festplatz Dorfmitte\, Renchtalstraße
X-ALT-DESC;FMTTYPE=text/html:<strong>Kurzbeschreibung:</strong><br/>Das Dor
 ffest der Wiege des Renchtals! Geboren aus der 1.000 Jahrfeier begeistert 
 unser \nFest nahezu jedes Jahr aufs neue die Menschen der Region.<br /><st
 rong>Ort:</strong><br/>Festplatz Dorfmitte\, Renchtalstraße\, Oberkirch-Nu
 ßbach<br /><strong>Veranstalter:</strong><br/>Festgemeinschaft Nußbach GbR
 <br /><strong>Termin:</strong><br/>Beginn: 22.08.2026<br/>Ende: 22.08.2026
 <br /><strong>Link:</strong><br/><a href='https://ortenaukultur.de/de/vera
 nstaltungen/detail/veranstaltung/id/581328-dorffest-in-nussbach/?vt=1'>Zur
  Detailseite</a>
END:VEVENT
END:VCALENDAR
