BEGIN:VCALENDAR
VERSION:2.0
PRODID:-//ortenaukultur.de//NONSGML kigkonsult.se iCalcreator 2.41.92//
CALSCALE:GREGORIAN
METHOD:PUBLISH
UID:36363864-6338-4664-b430-646561663434
X-WR-TIMEZONE:Europe/Berlin
X-LIC-LOCATION:Europe/Berlin
BEGIN:VEVENT
UID:582085-kulturportal@ortenaukultur.de
DTSTAMP:20260421T213812Z
DESCRIPTION:Kurzbeschreibung:\n Unter dem Motto „VITA IN ARTE AETERNA“ find
 et am 09.05 + 10.05.2026 die Tattoo & SHINE in Offenburg statt.\n Ort:\n M
 esse Offenburg-Ortenau\n Schutterwälderstraße 3\, 77654 Offenburg\n Verans
 talter:\n Veranstalter:Messe Offenburg-Ortenau GmbH in Kooperation mit De 
 La Vega ent. GbR\n Termin:\n Beginn: 09.05.2026\, 11:00 Uhr\n Ende: 09.05.
 2026\n Tickets:\n Tickets\n https://www.tattoo-and-art.de\n Link:\n Zur De
 tailseite
DTSTART;TZID=Europe/Berlin:20260509T110000
DTEND;TZID=Europe/Berlin:20260509T140000
LOCATION:Messe Offenburg-Ortenau\, Schutterwälderstraße 3\, 77654 Offenburg
SUMMARY:Tattoo & SHINE\, Messe Offenburg-Ortenau
X-ALT-DESC;FMTTYPE=text/html:<strong>Kurzbeschreibung:</strong><br/>Unter d
 em Motto „VITA IN ARTE AETERNA“ findet am 09.05 + 10.05.2026 die Tattoo & 
 SHINE  in Offenburg statt.\n<br /><strong>Ort:</strong><br/>Messe Offenbur
 g-Ortenau<br/>Schutterwälderstraße 3\, 77654 Offenburg<br /><strong>Verans
 talter:</strong><br/>Veranstalter:Messe Offenburg-Ortenau GmbH in Kooperat
 ion mit De La Vega ent. GbR<br /><strong>Termin:</strong><br/>Beginn: 09.0
 5.2026\, 11:00 Uhr<br/>Ende: 09.05.2026<br /><strong>Tickets: </strong><br
 /><a  class='wco_cb_subtitle_link'  id='ticketlink'  href='https://www.tat
 too-and-art.de' target='_blank' >Tickets</a><br/>https://www.tattoo-and-ar
 t.de<br /><strong>Link:</strong><br/><a href='https://ortenaukultur.de/de/
 veranstaltungen/detail/veranstaltung/id/582085-tattoo-shine/?vt=1'>Zur Det
 ailseite</a>
END:VEVENT
END:VCALENDAR
