BEGIN:VCALENDAR
VERSION:2.0
PRODID:-//ortenaukultur.de//NONSGML kigkonsult.se iCalcreator 2.41.92//
CALSCALE:GREGORIAN
METHOD:PUBLISH
UID:33343661-3130-4533-b333-313835613231
X-WR-TIMEZONE:Europe/Berlin
X-LIC-LOCATION:Europe/Berlin
BEGIN:VEVENT
UID:582237-kulturportal@ortenaukultur.de
DTSTAMP:20260422T074005Z
DESCRIPTION:Kurzbeschreibung:\n Ein gar trefflich Spectaculum auf der Schau
 enburg zu Oberkirch am 11. Juli 2026!\n Ort:\n Burgruine Schauenburg\n Bur
 gstraße 29\, 77704 Oberkirch\n Veranstalter:\n Lions Club Oberkirch-Schaue
 nburg\n Termin:\n Beginn: 11.07.2026\, 11:00 Uhr\n Ende: 11.07.2026\n Tick
 ets:\n Tickets kaufen\n https://ortenaukultur.reservix.de/p/reservix/event
 /2480713\n Eintritt Tageskarte (Tavernenspiel muss separat gebucht werden!
 ):\n bis 13\,00 € + Ermäßigung\n Tavernenspiel (Beginn 20 Uhr\, Tageseintr
 itt muss zusätzlich gelöst werden):\n bis 5\,00 € + Ermäßigung\n *Preise i
 nkl. MwSt.\n \n Link:\n Zur Detailseite
DTSTART;TZID=Europe/Berlin:20260711T110000
DTEND;TZID=Europe/Berlin:20260711T140000
LOCATION:Burgruine Schauenburg\, Burgstraße 29\, 77704 Oberkirch
SUMMARY:Mittelalterliches Spectaculum auf der Schauenburg zu Oberkirch\, Ru
 ine Schauenburg
X-ALT-DESC;FMTTYPE=text/html:<strong>Kurzbeschreibung:</strong><br/>Ein gar
  trefflich Spectaculum auf der Schauenburg zu Oberkirch am 11. Juli 2026!<
 br /><strong>Ort:</strong><br/>Burgruine Schauenburg<br/>Burgstraße 29\, 7
 7704 Oberkirch<br /><strong>Veranstalter:</strong><br/>Lions Club Oberkirc
 h-Schauenburg<br /><strong>Termin:</strong><br/>Beginn: 11.07.2026\, 11:00
  Uhr<br/>Ende: 11.07.2026<br /><strong>Tickets: </strong><br/><a rel='asdf
 ' href='https://ortenaukultur.de/de/veranstaltungen/detail/tickets/id/5822
 37-mittelalterliches-spectaculum-auf-der-schauenburg-zu-oberkirch/?follow=
 https%253A%252F%252Fortenaukultur.reservix.de%252Fp%252Freservix%252Fevent
 %252F2480713' target='_blank' title='' id='ticketlink'>Tickets kaufen</a><
 br/>https://ortenaukultur.reservix.de/p/reservix/event/2480713<br/><b>Eint
 ritt Tageskarte (Tavernenspiel muss separat gebucht werden!): </b><br />bi
 s 13\,00 &euro\;&nbsp\; + Ermäßigung<br /><b>Tavernenspiel (Beginn 20 Uhr\
 , Tageseintritt muss zusätzlich gelöst werden): </b><br />bis 5\,00 &euro\
 ;&nbsp\; + Ermäßigung<br />*Preise inkl. MwSt.<br /><br /><strong>Link:</s
 trong><br/><a href='https://ortenaukultur.de/de/veranstaltungen/detail/ver
 anstaltung/id/582237-mittelalterliches-spectaculum-auf-der-schauenburg-zu-
 oberkirch/?vt=1'>Zur Detailseite</a>
END:VEVENT
END:VCALENDAR
