BEGIN:VCALENDAR
VERSION:2.0
PRODID:-//ortenaukultur.de//NONSGML kigkonsult.se iCalcreator 2.41.92//
CALSCALE:GREGORIAN
METHOD:PUBLISH
UID:36323034-6362-4735-b131-396163323739
X-WR-TIMEZONE:Europe/Berlin
X-LIC-LOCATION:Europe/Berlin
BEGIN:VEVENT
UID:583237-kulturportal@ortenaukultur.de
DTSTAMP:20260421T204342Z
DESCRIPTION:Kurzbeschreibung:\n Bummeln Sie 2026 wieder mit den Stadtführer
 n durch die Gassen und lassen Sie sich von der barocken Altstadt verzauber
 n.\n Ort:\n Start Bärenbrunnen und Innenstadt\n Rohanstr. 16\, 77955 Etten
 heim\n Veranstalter:\n VHS Lahr\, Außenstelle Ettenheim und Stadt Ettenhei
 m\n Termin:\n Beginn: 07.05.2026\, 18:15 Uhr\n Ende: 07.05.2026\n Tickets:
 \n 21 EUR\n Anmeldung VHS Lahr\, Außenstelle Ettenheim\n Link:\n Zur Detai
 lseite
DTSTART;TZID=Europe/Berlin:20260507T181500
DTEND;TZID=Europe/Berlin:20260507T211500
LOCATION:Start Bärenbrunnen und Innenstadt\, Rohanstr. 16\, 77955 Ettenheim
SUMMARY:Stadtführung mit Erlebnisweinprobe \, Rathaus Ettenheim\, Bärenbrun
 nen
X-ALT-DESC;FMTTYPE=text/html:<strong>Kurzbeschreibung:</strong><br/>Bummeln
  Sie 2026 wieder mit den Stadtführern durch die Gassen und lassen Sie sich
  von der barocken Altstadt verzaubern.<br /><strong>Ort:</strong><br/>Star
 t Bärenbrunnen und Innenstadt<br/>Rohanstr. 16\, 77955 Ettenheim<br /><str
 ong>Veranstalter:</strong><br/>VHS Lahr\, Außenstelle Ettenheim und Stadt 
 Ettenheim<br /><strong>Termin:</strong><br/>Beginn: 07.05.2026\, 18:15 Uhr
 <br/>Ende: 07.05.2026<br /><strong>Tickets: </strong><br/>21 EUR<br />\nAn
 meldung VHS Lahr\, Außenstelle Ettenheim<br /><strong>Link:</strong><br/><
 a href='https://ortenaukultur.de/de/veranstaltungen/detail/veranstaltung/i
 d/583237-stadtfuehrung-mit-erlebnisweinprobe/?vt=1'>Zur Detailseite</a>
END:VEVENT
END:VCALENDAR
