BEGIN:VCALENDAR
VERSION:2.0
PRODID:-//ortenaukultur.de//NONSGML kigkonsult.se iCalcreator 2.41.92//
CALSCALE:GREGORIAN
METHOD:PUBLISH
UID:37376639-3236-4465-b132-386662323266
X-WR-TIMEZONE:Europe/Berlin
X-LIC-LOCATION:Europe/Berlin
BEGIN:VEVENT
UID:583331-kulturportal@ortenaukultur.de
DTSTAMP:20260421T210334Z
DESCRIPTION:Kurzbeschreibung:\n Endstation Sehnsucht – Die Kult-Schlagerban
 d aus Hausach begeistert live!\n Ort:\n Stadthalle\n Stadthallenplatz 1\, 
 78132 Hornberg\n Veranstalter:\n VfR Hornberg e.V.\n Termin:\n Beginn: 25.
 04.2026\n Ende: 25.04.2026\n Tickets:\n 20\,00 Euro\n Karten nur im Vorver
 kauf erhältlich\n Link:\n Zur Detailseite
DTSTART;TZID=Europe/Berlin:20260425T000000
DTEND;TZID=Europe/Berlin:20260425T030000
LOCATION:Stadthalle\, Stadthallenplatz 1\, 78132 Hornberg
SUMMARY:Konzert mit 'Endstation Sehnsucht'\, Stadthalle
X-ALT-DESC;FMTTYPE=text/html:<strong>Kurzbeschreibung:</strong><br/>Endstat
 ion Sehnsucht – Die Kult-Schlagerband aus Hausach begeistert live!<br /><s
 trong>Ort:</strong><br/>Stadthalle<br/>Stadthallenplatz 1\, 78132 Hornberg
 <br /><strong>Veranstalter:</strong><br/>VfR Hornberg e.V.<br /><strong>Te
 rmin:</strong><br/>Beginn: 25.04.2026<br/>Ende: 25.04.2026<br /><strong>Ti
 ckets: </strong><br/>20\,00 Euro<br />\nKarten nur im Vorverkauf erhältlic
 h<br /><strong>Link:</strong><br/><a href='https://ortenaukultur.de/de/ver
 anstaltungen/detail/veranstaltung/id/583331-konzert-mit-endstation-sehnsuc
 ht/?vt=1'>Zur Detailseite</a>
END:VEVENT
END:VCALENDAR
