BEGIN:VCALENDAR
VERSION:2.0
PRODID:-//ortenaukultur.de//NONSGML kigkonsult.se iCalcreator 2.41.92//
CALSCALE:GREGORIAN
METHOD:PUBLISH
UID:64623264-3936-4431-a139-643835366235
X-WR-TIMEZONE:Europe/Berlin
X-LIC-LOCATION:Europe/Berlin
BEGIN:VEVENT
UID:583557-kulturportal@ortenaukultur.de
DTSTAMP:20260421T155749Z
DESCRIPTION:Kurzbeschreibung:\n Ausstellung mit spektakulären Rasterelektro
 nenmikroskop-Fotografien von Oliver Meckes und Nicole Ottawa\, die Einblic
 k in das Bodenleben geben.\n Ort:\n Das Kulturhaus.\n Am Läger 12\, 77694 
 Kehl\n Veranstalter:\n Kulturbüro Kehl\n Termin:\n Beginn: 02.03.2026\n En
 de: 02.03.2026\n Tickets:\n Eintritt frei.\n Öffnungszeiten: Mo.-Fr. 8.30 
 - 20.30 Uhr\n Sa. 8.30 - 14 Uhr\n sowie während der Begleitveranstaltungen
 \n Link:\n Zur Detailseite
DTSTART;TZID=Europe/Berlin:20260302T000000
DTEND;TZID=Europe/Berlin:20260302T030000
LOCATION:Das Kulturhaus.\, Am Läger 12\, 77694 Kehl
SUMMARY:DRECKSARBEIT - Der Mikrokosmos unter unseren Füßen\, Das Kulturhaus
 .
X-ALT-DESC;FMTTYPE=text/html:<strong>Kurzbeschreibung:</strong><br/>Ausstel
 lung mit  spektakulären Rasterelektronenmikroskop-Fotografien von  Oliver 
 Meckes und  Nicole Ottawa\, die Einblick in das Bodenleben geben.\n<br /><
 strong>Ort:</strong><br/>Das Kulturhaus.<br/>Am Läger 12\, 77694 Kehl<br /
 ><strong>Veranstalter:</strong><br/>Kulturbüro Kehl<br /><strong>Termin:</
 strong><br/>Beginn: 02.03.2026<br/>Ende: 02.03.2026<br /><strong>Tickets: 
 </strong><br/>Eintritt frei.<br />\nÖffnungszeiten: Mo.-Fr. 8.30 - 20.30 U
 hr<br />\nSa. 8.30 - 14 Uhr<br />\nsowie während der Begleitveranstaltunge
 n<br /><strong>Link:</strong><br/><a href='https://ortenaukultur.de/de/ver
 anstaltungen/detail/veranstaltung/id/583557-drecksarbeit-der-mikrokosmos-u
 nter-unseren-fuessen/?vt=1'>Zur Detailseite</a>
END:VEVENT
END:VCALENDAR
