BEGIN:VCALENDAR
VERSION:2.0
PRODID:-//ortenaukultur.de//NONSGML kigkonsult.se iCalcreator 2.41.92//
CALSCALE:GREGORIAN
METHOD:PUBLISH
UID:64656531-3032-4733-b333-306230343138
X-WR-TIMEZONE:Europe/Berlin
X-LIC-LOCATION:Europe/Berlin
BEGIN:VEVENT
UID:584367-kulturportal@ortenaukultur.de
DTSTAMP:20260421T222811Z
DESCRIPTION:Kurzbeschreibung:\n Vier Vereine laden zum Dorffest After Work 
 ein. Familie und Freunde treffen\, Geselligkeit und Musik - für Trinken un
 d Essen ist gesorgt.\n Ort:\n Schulvorplatz bei der Münchgrundhalle\n Jose
 ph-Greber-Str. 5\, 77955 Ettenheim-Altdorf\n Veranstalter:\n IG Dorffest A
 ltdorf\n Termin:\n Beginn: 13.05.2026\, 18:00 Uhr\n Ende: 13.05.2026\n Lin
 k:\n Zur Detailseite
DTSTART;TZID=Europe/Berlin:20260513T180000
DTEND;TZID=Europe/Berlin:20260513T210000
LOCATION:Schulvorplatz bei der Münchgrundhalle\, Joseph-Greber-Str. 5\, 779
 55 Ettenheim-Altdorf
SUMMARY:Dorffest After Work in Altdorf\, Münchgrundhalle
X-ALT-DESC;FMTTYPE=text/html:<strong>Kurzbeschreibung:</strong><br/>Vier Ve
 reine laden zum Dorffest After Work ein. Familie und Freunde treffen\, Ges
 elligkeit und Musik - für Trinken und Essen ist gesorgt.<br /><strong>Ort:
 </strong><br/>Schulvorplatz bei der Münchgrundhalle<br/>Joseph-Greber-Str.
  5\, 77955 Ettenheim-Altdorf<br /><strong>Veranstalter:</strong><br/>IG Do
 rffest Altdorf<br /><strong>Termin:</strong><br/>Beginn: 13.05.2026\, 18:0
 0 Uhr<br/>Ende: 13.05.2026<br /><strong>Link:</strong><br/><a href='https:
 //ortenaukultur.de/de/veranstaltungen/detail/veranstaltung/id/584367-dorff
 est-after-work-in-altdorf/?vt=1'>Zur Detailseite</a>
END:VEVENT
END:VCALENDAR
