BEGIN:VCALENDAR
VERSION:2.0
PRODID:-//ortenaukultur.de//NONSGML kigkonsult.se iCalcreator 2.41.92//
CALSCALE:GREGORIAN
METHOD:PUBLISH
UID:65663365-3763-4533-b234-636336303238
X-WR-TIMEZONE:Europe/Berlin
X-LIC-LOCATION:Europe/Berlin
BEGIN:VEVENT
UID:585352-kulturportal@ortenaukultur.de
DTSTAMP:20260422T023125Z
DESCRIPTION:Kurzbeschreibung:\n Traditionelle Begrüßung des Wonnemonats Mai
  mit bewirtetem 'Hock' in der Dorfmitte.\n Ort:\n Rathaus/Narrenkeller\n D
 orfstr. 19\, 77790 Steinach-Welschensteinach\n Veranstalter:\n Bachdatsche
 rzunft Welschensteinach e.V.\n Termin:\n Beginn: 30.04.2026\n Ende: 30.04.
 2026\n Link:\n Zur Detailseite
DTSTART;TZID=Europe/Berlin:20260430T000000
DTEND;TZID=Europe/Berlin:20260430T030000
LOCATION:Rathaus/Narrenkeller\, Dorfstr. 19\, 77790 Steinach-Welschensteina
 ch
SUMMARY:Maibaumstellen \, Platz der Freundschaft
X-ALT-DESC;FMTTYPE=text/html:<strong>Kurzbeschreibung:</strong><br/>Traditi
 onelle Begrüßung des Wonnemonats Mai mit bewirtetem 'Hock' in der Dorfmitt
 e.<br /><strong>Ort:</strong><br/>Rathaus/Narrenkeller<br/>Dorfstr. 19\, 7
 7790 Steinach-Welschensteinach<br /><strong>Veranstalter:</strong><br/>Bac
 hdatscherzunft Welschensteinach e.V.<br /><strong>Termin:</strong><br/>Beg
 inn: 30.04.2026<br/>Ende: 30.04.2026<br /><strong>Link:</strong><br/><a hr
 ef='https://ortenaukultur.de/de/veranstaltungen/detail/veranstaltung/id/58
 5352-maibaumstellen/?vt=1'>Zur Detailseite</a>
END:VEVENT
END:VCALENDAR
