BEGIN:VCALENDAR
VERSION:2.0
PRODID:-//ortenaukultur.de//NONSGML kigkonsult.se iCalcreator 2.41.92//
CALSCALE:GREGORIAN
METHOD:PUBLISH
UID:35626635-3963-4733-b131-383334313435
X-WR-TIMEZONE:Europe/Berlin
X-LIC-LOCATION:Europe/Berlin
BEGIN:VEVENT
UID:585353-kulturportal@ortenaukultur.de
DTSTAMP:20260421T232841Z
DESCRIPTION:Kurzbeschreibung:\n Traditionelle Begrüßung des Wonnemonats Mai
  durch eine Abordnung von MusikerInnen\n Ort:\n Kreuzbühl\, Steinach\n Ver
 anstalter:\n Musikverein 'Harmonie' Steinach\n Termin:\n Beginn: 01.05.202
 6\n Ende: 01.05.2026\n Link:\n Zur Detailseite
DTSTART;TZID=Europe/Berlin:20260501T000000
DTEND;TZID=Europe/Berlin:20260501T030000
LOCATION:Kreuzbühl\, Steinach
SUMMARY:Maiständchen des Musikvereins Steinach\, Kreuzbühl
X-ALT-DESC;FMTTYPE=text/html:<strong>Kurzbeschreibung:</strong><br/>Traditi
 onelle Begrüßung des Wonnemonats Mai durch eine Abordnung von MusikerInnen
 <br /><strong>Ort:</strong><br/>Kreuzbühl\, Steinach<br /><strong>Veransta
 lter:</strong><br/>Musikverein 'Harmonie' Steinach<br /><strong>Termin:</s
 trong><br/>Beginn: 01.05.2026<br/>Ende: 01.05.2026<br /><strong>Link:</str
 ong><br/><a href='https://ortenaukultur.de/de/veranstaltungen/detail/veran
 staltung/id/585353-maistaendchen-des-musikvereins-steinach/?vt=1'>Zur Deta
 ilseite</a>
END:VEVENT
END:VCALENDAR
