BEGIN:VCALENDAR
VERSION:2.0
PRODID:-//ortenaukultur.de//NONSGML kigkonsult.se iCalcreator 2.41.92//
CALSCALE:GREGORIAN
METHOD:PUBLISH
UID:33336132-3133-4136-a263-363139653830
X-WR-TIMEZONE:Europe/Berlin
X-LIC-LOCATION:Europe/Berlin
BEGIN:VEVENT
UID:585464-kulturportal@ortenaukultur.de
DTSTAMP:20260422T002844Z
DESCRIPTION:Kurzbeschreibung:\n Bei einem abendlichen Rundgang erzählt ein 
 Experte alles Wissenswerte über die charismatische Tierart des Wolfes.\n O
 rt:\n Alternativer Wolf- und Bärenpark Schwarzwald\n Rippoldsauer Straße 3
 6/1\, 77776 Bad Rippoldsau-Schapbach\n Veranstalter:\n Tourist-Info Bad Ri
 ppoldsau-Schapbach\n Termin:\n Beginn: 05.12.2026\, 16:00 Uhr\n Ende: 05.1
 2.2026\n Tickets:\n www.baer.de\n \n \n Link:\n Zur Detailseite
DTSTART;TZID=Europe/Berlin:20261205T160000
DTEND;TZID=Europe/Berlin:20261205T190000
LOCATION:Alternativer Wolf- und Bärenpark Schwarzwald\, Rippoldsauer Straße
  36/1\, 77776 Bad Rippoldsau-Schapbach
SUMMARY:Nachts im Bärenpark\, Alternativer Wolf- und Bärenpark Schwarzwald
X-ALT-DESC;FMTTYPE=text/html:<strong>Kurzbeschreibung:</strong><br/>Bei ein
 em abendlichen Rundgang erzählt ein Experte alles Wissenswerte über die ch
 arismatische Tierart des Wolfes. <br /><strong>Ort:</strong><br/>Alternati
 ver Wolf- und Bärenpark Schwarzwald<br/>Rippoldsauer Straße 36/1\, 77776 B
 ad Rippoldsau-Schapbach<br /><strong>Veranstalter:</strong><br/>Tourist-In
 fo Bad Rippoldsau-Schapbach<br /><strong>Termin:</strong><br/>Beginn: 05.1
 2.2026\, 16:00 Uhr<br/>Ende: 05.12.2026<br /><strong>Tickets: </strong><br
 />www.baer.de <br />\n<br />\n<br /><strong>Link:</strong><br/><a href='ht
 tps://ortenaukultur.de/de/veranstaltungen/detail/veranstaltung/id/585464-n
 achts-im-baerenpark/?vt=1'>Zur Detailseite</a>
END:VEVENT
END:VCALENDAR
