BEGIN:VCALENDAR
VERSION:2.0
PRODID:-//ortenaukultur.de//NONSGML kigkonsult.se iCalcreator 2.41.92//
CALSCALE:GREGORIAN
METHOD:PUBLISH
UID:63356233-3865-4464-b835-323230323337
X-WR-TIMEZONE:Europe/Berlin
X-LIC-LOCATION:Europe/Berlin
BEGIN:VEVENT
UID:585471-kulturportal@ortenaukultur.de
DTSTAMP:20260421T214130Z
DESCRIPTION:Kurzbeschreibung:\n Musikfest der Trachtenkapelle Butschbach-He
 sselbach bei der Maiecklehalle.\n Ort:\n Maiecklehalle Hesselbach\n Hessel
 bacher Straße\, 77704 Oberkirch\n Veranstalter:\n Trachtenkapelle Butschba
 ch-Hesselbach\n Termin:\n Beginn: 09.05.2026\n Ende: 09.05.2026\n Link:\n 
 Zur Detailseite
DTSTART;TZID=Europe/Berlin:20260509T000000
DTEND;TZID=Europe/Berlin:20260509T030000
LOCATION:Maiecklehalle Hesselbach\, Hesselbacher Straße\, 77704 Oberkirch
SUMMARY:s' Musikfest in Hesselbach\, Maiecklehalle Hesselbach
X-ALT-DESC;FMTTYPE=text/html:<strong>Kurzbeschreibung:</strong><br/>Musikfe
 st der Trachtenkapelle Butschbach-Hesselbach bei der Maiecklehalle.<br /><
 strong>Ort:</strong><br/>Maiecklehalle Hesselbach<br/>Hesselbacher Straße\
 , 77704 Oberkirch<br /><strong>Veranstalter:</strong><br/>Trachtenkapelle 
 Butschbach-Hesselbach<br /><strong>Termin:</strong><br/>Beginn: 09.05.2026
 <br/>Ende: 09.05.2026<br /><strong>Link:</strong><br/><a href='https://ort
 enaukultur.de/de/veranstaltungen/detail/veranstaltung/id/585471-s-musikfes
 t-in-hesselbach/?vt=1'>Zur Detailseite</a>
END:VEVENT
END:VCALENDAR
