BEGIN:VCALENDAR
VERSION:2.0
PRODID:-//ortenaukultur.de//NONSGML kigkonsult.se iCalcreator 2.41.92//
CALSCALE:GREGORIAN
METHOD:PUBLISH
UID:38623761-3331-4530-b536-633038613630
X-WR-TIMEZONE:Europe/Berlin
X-LIC-LOCATION:Europe/Berlin
BEGIN:VEVENT
UID:586167-kulturportal@ortenaukultur.de
DTSTAMP:20260421T230611Z
DESCRIPTION:Kurzbeschreibung:\n Die neue Sonderausstellung zeigt die Anfäng
 e und zeichnet die Entwicklung des Schützenwesens in Lahr bis heute nach.
 \n Ort:\n Stadtmuseum Lahr - Tonofenfabrik\n Kreuzstr. 6\, 77933 Lahr\n Ve
 ranstalter:\n Stadtmuseum Lahr\n Termin:\n Beginn: 06.05.2026\, 11:00 Uhr
 \n Ende: 06.05.2026\n Tickets:\n Eintritt Museum: 4 € (bis 18 Jahre freier
  Eintritt)\n Link:\n Zur Detailseite
DTSTART;TZID=Europe/Berlin:20260506T110000
DTEND;TZID=Europe/Berlin:20260506T140000
LOCATION:Stadtmuseum Lahr - Tonofenfabrik\, Kreuzstr. 6\, 77933 Lahr
SUMMARY:Sonderausstellung: „500 Jahre Schützenwesen in Lahr“\, Stadtmuseum 
 Lahr - Tonofenfabrik
X-ALT-DESC;FMTTYPE=text/html:<strong>Kurzbeschreibung:</strong><br/>Die neu
 e Sonderausstellung zeigt die Anfänge und zeichnet die Entwicklung des Sch
 ützenwesens in Lahr bis heute nach.<br /><strong>Ort:</strong><br/>Stadtmu
 seum Lahr - Tonofenfabrik<br/>Kreuzstr. 6\, 77933 Lahr<br /><strong>Verans
 talter:</strong><br/>Stadtmuseum Lahr<br /><strong>Termin:</strong><br/>Be
 ginn: 06.05.2026\, 11:00 Uhr<br/>Ende: 06.05.2026<br /><strong>Tickets: </
 strong><br/>Eintritt Museum: 4 € (bis 18 Jahre freier Eintritt)<br /><stro
 ng>Link:</strong><br/><a href='https://ortenaukultur.de/de/veranstaltungen
 /detail/veranstaltung/id/586167-sonderausstellung-500-jahre-schuetzenwesen
 -in-lahr/?vt=1'>Zur Detailseite</a>
END:VEVENT
END:VCALENDAR
