BEGIN:VCALENDAR
VERSION:2.0
PRODID:-//ortenaukultur.de//NONSGML kigkonsult.se iCalcreator 2.41.92//
CALSCALE:GREGORIAN
METHOD:PUBLISH
UID:34396137-6436-4165-a232-346433396134
X-WR-TIMEZONE:Europe/Berlin
X-LIC-LOCATION:Europe/Berlin
BEGIN:VEVENT
UID:586730-kulturportal@ortenaukultur.de
DTSTAMP:20260422T021658Z
DESCRIPTION:Kurzbeschreibung:\n Zu Beginn der Chrysanthema in Lahr lädt die
  Stadtkapelle zum einem besonderen Konzertabend ein. Leitung: MD Nicholas 
 Reed\n Ort:\n Parktheater\n Kaiserstraße 107\, 77933 Lahr\n Veranstalter:
 \n Stadtkapelle Lahr e.V.\n Termin:\n Beginn: 24.10.2026\, 19:30 Uhr\n End
 e: 24.10.2026\n Tickets:\n Tickets\n Eintritt frei!\n Link:\n Zur Detailse
 ite
DTSTART;TZID=Europe/Berlin:20261024T193000
DTEND;TZID=Europe/Berlin:20261024T223000
LOCATION:Parktheater\, Kaiserstraße 107\, 77933 Lahr
SUMMARY:Chrysanthemengala 2026 der Stadtkapelle Lahr e.V. \, Parktheater
X-ALT-DESC;FMTTYPE=text/html:<strong>Kurzbeschreibung:</strong><br/>Zu Begi
 nn der Chrysanthema in Lahr lädt die Stadtkapelle zum einem besonderen Kon
 zertabend ein. Leitung: MD Nicholas Reed<br /><strong>Ort:</strong><br/>Pa
 rktheater<br/>Kaiserstraße 107\, 77933 Lahr<br /><strong>Veranstalter:</st
 rong><br/>Stadtkapelle Lahr e.V.<br /><strong>Termin:</strong><br/>Beginn:
  24.10.2026\, 19:30 Uhr<br/>Ende: 24.10.2026<br /><strong>Tickets: </stron
 g><br/><a  class='wco_cb_subtitle_link'  id='ticketlink'  href='mailto:m.m
 oser@stadtkapelle-lahr.de' target='_blank' >Tickets</a><br/>Eintritt frei!
  <br /><strong>Link:</strong><br/><a href='https://ortenaukultur.de/de/ver
 anstaltungen/detail/veranstaltung/id/586730-chrysanthemengala-2026-der-sta
 dtkapelle-lahr-e-v/?vt=1'>Zur Detailseite</a>
END:VEVENT
END:VCALENDAR
