BEGIN:VCALENDAR
VERSION:2.0
PRODID:-//ortenaukultur.de//NONSGML kigkonsult.se iCalcreator 2.41.92//
CALSCALE:GREGORIAN
METHOD:PUBLISH
UID:38626561-3966-4266-b233-336237613436
X-WR-TIMEZONE:Europe/Berlin
X-LIC-LOCATION:Europe/Berlin
BEGIN:VEVENT
UID:588465-kulturportal@ortenaukultur.de
DTSTAMP:20260422T003003Z
DESCRIPTION:Kurzbeschreibung:\n Kostenlose öffentliche Führung durch das Il
 lenau Arkaden Museum. Die bewegende Geschichte der einst europaweit angese
 henen Heilanstalt für seelisch Kranke wird\n Ort:\n Illenau Arkaden Museum
 \n Illenau Allee 75\, 77855 Achern\n Veranstalter:\n Stadt Achern - FG3.3 
 - Tourist-Info\n Termin:\n Beginn: 30.10.2026\, 18:00 Uhr\n Ende: 30.10.20
 26\n Link:\n Zur Detailseite
DTSTART;TZID=Europe/Berlin:20261030T180000
DTEND;TZID=Europe/Berlin:20261030T210000
LOCATION:Illenau Arkaden Museum\, Illenau Allee 75\, 77855 Achern
SUMMARY:Achern - Illenau - Öffentliche Führung durch das Illenau Arkaden Mu
 seum\, Illenau Arkaden Museum
X-ALT-DESC;FMTTYPE=text/html:<strong>Kurzbeschreibung:</strong><br/>Kostenl
 ose öffentliche Führung durch das Illenau Arkaden Museum. Die bewegende Ge
 schichte der einst europaweit angesehenen Heilanstalt für seelisch Kranke 
 wird<br /><strong>Ort:</strong><br/>Illenau Arkaden Museum<br/>Illenau All
 ee 75\, 77855 Achern<br /><strong>Veranstalter:</strong><br/>Stadt Achern 
 - FG3.3 - Tourist-Info<br /><strong>Termin:</strong><br/>Beginn: 30.10.202
 6\, 18:00 Uhr<br/>Ende: 30.10.2026<br /><strong>Link:</strong><br/><a href
 ='https://ortenaukultur.de/de/veranstaltungen/detail/veranstaltung/id/5884
 65-achern-illenau-oeffentliche-fuehrung-durch-das-illenau-arkaden-museum/?
 vt=1'>Zur Detailseite</a>
END:VEVENT
END:VCALENDAR
