BEGIN:VCALENDAR
VERSION:2.0
PRODID:-//ortenaukultur.de//NONSGML kigkonsult.se iCalcreator 2.41.92//
CALSCALE:GREGORIAN
METHOD:PUBLISH
UID:66636232-3332-4963-b939-363931353830
X-WR-TIMEZONE:Europe/Berlin
X-LIC-LOCATION:Europe/Berlin
BEGIN:VEVENT
UID:588477-kulturportal@ortenaukultur.de
DTSTAMP:20260421T223209Z
DESCRIPTION:Kurzbeschreibung:\n Der Illenauer Friedhof gehört zur ehemalige
 n großherzoglich-badischen Heil- und Pflegeanstalt Illenau. Patienten\, Är
 zte und Personal fanden hier ihre letzte\n Ort:\n Illenauer Friedhof\n Hor
 nisgrindestr. 40\, 77855 Achern\n Veranstalter:\n Stadt Achern - FG3.3 - T
 ourist-Info\n Termin:\n Beginn: 08.05.2026\, 18:00 Uhr\n Ende: 08.05.2026
 \n Link:\n Zur Detailseite
DTSTART;TZID=Europe/Berlin:20260508T180000
DTEND;TZID=Europe/Berlin:20260508T210000
LOCATION:Illenauer Friedhof\, Hornisgrindestr. 40\, 77855 Achern
SUMMARY:Achern - Führung über den Illenauer Friedhof\, Illenauer Friedhof
X-ALT-DESC;FMTTYPE=text/html:<strong>Kurzbeschreibung:</strong><br/>Der Ill
 enauer Friedhof gehört zur ehemaligen großherzoglich-badischen Heil- und P
 flegeanstalt Illenau. Patienten\, Ärzte und Personal fanden hier ihre letz
 te<br /><strong>Ort:</strong><br/>Illenauer Friedhof<br/>Hornisgrindestr. 
 40\, 77855 Achern<br /><strong>Veranstalter:</strong><br/>Stadt Achern - F
 G3.3 - Tourist-Info<br /><strong>Termin:</strong><br/>Beginn: 08.05.2026\,
  18:00 Uhr<br/>Ende: 08.05.2026<br /><strong>Link:</strong><br/><a href='h
 ttps://ortenaukultur.de/de/veranstaltungen/detail/veranstaltung/id/588477-
 achern-fuehrung-ueber-den-illenauer-friedhof/?vt=1'>Zur Detailseite</a>
END:VEVENT
END:VCALENDAR
