BEGIN:VCALENDAR
VERSION:2.0
PRODID:-//ortenaukultur.de//NONSGML kigkonsult.se iCalcreator 2.41.92//
CALSCALE:GREGORIAN
METHOD:PUBLISH
UID:39336130-3264-4162-a331-343234643366
X-WR-TIMEZONE:Europe/Berlin
X-LIC-LOCATION:Europe/Berlin
BEGIN:VEVENT
UID:588524-kulturportal@ortenaukultur.de
DTSTAMP:20260422T223700Z
DESCRIPTION:Kurzbeschreibung:\n Wandern\, picknicken\, gute Musik und herrl
 iche Ausblicke über das Tal genießen: Das ist das Motto unserer Picknick-K
 onzerte!\n Ort:\n Auf dem Harmersbacher Vesperweg\n Hub \, 77784 Oberharme
 rsbach\n Veranstalter:\n Tourist-Information Oberharmersbach\n Termin:\n B
 eginn: 04.06.2026\, 17:00 Uhr\n Ende: 04.06.2026\n Tickets:\n Kostenloser 
 Hörgenuss - Spenden willkommen!\n Link:\n Zur Detailseite
DTSTART;TZID=Europe/Berlin:20260604T170000
DTEND;TZID=Europe/Berlin:20260604T200000
LOCATION:Auf dem Harmersbacher Vesperweg\, Hub \, 77784 Oberharmersbach
SUMMARY:Picknick-Konzert bei der langen Baumstamm-Bank \, Auf dem Harmersba
 cher Vesperweg
X-ALT-DESC;FMTTYPE=text/html:<strong>Kurzbeschreibung:</strong><br/>Wandern
 \, picknicken\, gute Musik und herrliche Ausblicke über das Tal genießen: 
 Das ist das Motto unserer Picknick-Konzerte!<br /><strong>Ort:</strong><br
 />Auf dem Harmersbacher Vesperweg<br/>Hub \, 77784 Oberharmersbach<br /><s
 trong>Veranstalter:</strong><br/>Tourist-Information Oberharmersbach<br />
 <strong>Termin:</strong><br/>Beginn: 04.06.2026\, 17:00 Uhr<br/>Ende: 04.0
 6.2026<br /><strong>Tickets: </strong><br/>Kostenloser Hörgenuss - Spenden
  willkommen!<br /><strong>Link:</strong><br/><a href='https://ortenaukultu
 r.de/de/veranstaltungen/detail/veranstaltung/id/588524-picknick-konzert-be
 i-der-langen-baumstamm-bank/?vt=1'>Zur Detailseite</a>
END:VEVENT
END:VCALENDAR
