BEGIN:VCALENDAR
VERSION:2.0
PRODID:-//ortenaukultur.de//NONSGML kigkonsult.se iCalcreator 2.41.92//
CALSCALE:GREGORIAN
METHOD:PUBLISH
UID:30643262-3434-4737-b934-313464626337
X-WR-TIMEZONE:Europe/Berlin
X-LIC-LOCATION:Europe/Berlin
BEGIN:VEVENT
UID:588601-kulturportal@ortenaukultur.de
DTSTAMP:20260421T214115Z
DESCRIPTION:Kurzbeschreibung:\n Nach dem Roman von Joachim Meyerhoff - In e
 iner Theaterfassung von Edzard Schoppmann\n Ort:\n Theater Eurodistrict Ba
 den Alsace im Europäischen Forum am Rhein\n Am Altenheimer Yachthafen 1 \,
  77743 Neuried-Altenheim\n Veranstalter:\n Theater Eurodistrict BAden ALsa
 ce\n Termin:\n Beginn: 10.05.2026\, 18:00 Uhr\n Ende: 10.05.2026\n Tickets
 :\n \n https://baal-novo.reservix.de/p/reservix/group/525266\n Tickets ab 
 19 Euro\n Link:\n Zur Detailseite
DTSTART;TZID=Europe/Berlin:20260510T180000
DTEND;TZID=Europe/Berlin:20260510T210000
LOCATION:Theater Eurodistrict Baden Alsace im Europäischen Forum am Rhein\,
  Am Altenheimer Yachthafen 1 \, 77743 Neuried-Altenheim
SUMMARY:Ach\, diese Lücke\, diese entsetzliche Lücke \, Theater Eurodistric
 t Baden Alsace im Europäischen Forum am Rhein
X-ALT-DESC;FMTTYPE=text/html:<strong>Kurzbeschreibung:</strong><br/>Nach de
 m Roman von Joachim Meyerhoff - In einer Theaterfassung von Edzard Schoppm
 ann<br /><strong>Ort:</strong><br/>Theater Eurodistrict Baden Alsace im Eu
 ropäischen Forum am Rhein<br/>Am Altenheimer Yachthafen 1 \, 77743 Neuried
 -Altenheim<br /><strong>Veranstalter:</strong><br/>Theater Eurodistrict BA
 den ALsace<br /><strong>Termin:</strong><br/>Beginn: 10.05.2026\, 18:00 Uh
 r<br/>Ende: 10.05.2026<br /><strong>Tickets: </strong><br/><a  class='wco_
 cb_subtitle_link'  id='ticketlink'  href='https://baal-novo.reservix.de/p/
 reservix/group/525266' target='_blank' title='Öffnet externen Link in eine
 m neuen Fenster'></a><br/>https://baal-novo.reservix.de/p/reservix/group/5
 25266<br/>Tickets ab 19 Euro<br /><strong>Link:</strong><br/><a href='http
 s://ortenaukultur.de/de/veranstaltungen/detail/veranstaltung/id/588601-ach
 -diese-luecke-diese-entsetzliche-luecke/?vt=1'>Zur Detailseite</a>
END:VEVENT
END:VCALENDAR
