BEGIN:VCALENDAR
VERSION:2.0
PRODID:-//ortenaukultur.de//NONSGML kigkonsult.se iCalcreator 2.41.92//
CALSCALE:GREGORIAN
METHOD:PUBLISH
UID:39613530-3464-4836-a631-616138323136
X-WR-TIMEZONE:Europe/Berlin
X-LIC-LOCATION:Europe/Berlin
BEGIN:VEVENT
UID:588955-kulturportal@ortenaukultur.de
DTSTAMP:20260422T002948Z
DESCRIPTION:Kurzbeschreibung:\n Auf den Spuren der Wilderer Tochter Silvana
 \, die Rebellin im Schwarzwald.\n Ort:\n am Brunnen bei der kath. Kirche\,
  Hausach\n Veranstalter:\n Brigitte Sum - Herrmann\n Termin:\n Beginn: 07.
 05.2026\, 17:00 Uhr\n Ende: 07.05.2026\n Tickets:\n Die Veranstaltung ist 
 ausgebucht\n \n Preis: 20\,00 €\n Möglichkeit zur Anmeldung: schwarzwaldto
 ur@email.de oder\n Tel: 0151 14442143\n Link:\n Zur Detailseite
DTSTART;TZID=Europe/Berlin:20260507T170000
DTEND;TZID=Europe/Berlin:20260507T200000
LOCATION:am Brunnen bei der kath. Kirche\, Hausach
SUMMARY:Die Wilderin / Veranstaltung ist ausgebucht\, am Brunnen bei der ka
 th. Kirche
X-ALT-DESC;FMTTYPE=text/html:<strong>Kurzbeschreibung:</strong><br/>Auf den
  Spuren der Wilderer Tochter Silvana\, die Rebellin im Schwarzwald.<br /><
 strong>Ort:</strong><br/>am Brunnen bei der kath. Kirche\, Hausach<br /><s
 trong>Veranstalter:</strong><br/>Brigitte Sum - Herrmann<br /><strong>Term
 in:</strong><br/>Beginn: 07.05.2026\, 17:00 Uhr<br/>Ende: 07.05.2026<br />
 <strong>Tickets: </strong><br/>Die Veranstaltung ist ausgebucht<br />\n<br
  />\nPreis: 20\,00 €<br />\nMöglichkeit zur Anmeldung: schwarzwaldtour@ema
 il.de oder <br />\nTel: 0151 14442143<br /><strong>Link:</strong><br/><a h
 ref='https://ortenaukultur.de/de/veranstaltungen/detail/veranstaltung/id/5
 88955-die-wilderin-veranstaltung-ist-ausgebucht/?vt=1'>Zur Detailseite</a>
END:VEVENT
END:VCALENDAR
