BEGIN:VCALENDAR
VERSION:2.0
PRODID:-//ortenaukultur.de//NONSGML kigkonsult.se iCalcreator 2.41.92//
CALSCALE:GREGORIAN
METHOD:PUBLISH
UID:66303366-6539-4361-a365-663230326663
X-WR-TIMEZONE:Europe/Berlin
X-LIC-LOCATION:Europe/Berlin
BEGIN:VEVENT
UID:589511-kulturportal@ortenaukultur.de
DTSTAMP:20260421T204505Z
DESCRIPTION:Kurzbeschreibung:\n Die Burg Hohengeroldseck gilt als Wahrzeich
 en unserer Region. Erkunden Sie auf einer spannenden und kurzweiligen Führ
 ung das imposante Bauwerk.\n Ort:\n Burgruine Hohengeroldseck\n Schlossber
 g\, 77960 Seelbach - Schönberg\n Veranstalter:\n Gemeinde Seelbach\n Termi
 n:\n Beginn: 18.06.2026\, 17:00 Uhr\n Ende: 18.06.2026\n Tickets:\n Anmeld
 ung erforderlich in der Kultur- und Tourist-Info Seelbach Tel: 07823 / 949
 4-52 E-Mail: tourismus@seelbach-online.de\n Preise:\n Erwachsene 5\,00 €\n
  Kinder (4-15 Jahre) 2\,50 €\n Familien (2 Erw. + 2 Kinder bis 15J.) 10\,0
 0 €\n Für Gäste mit der Seelbacher Gästekarte kostenlos\n Link:\n Zur Deta
 ilseite
DTSTART;TZID=Europe/Berlin:20260618T170000
DTEND;TZID=Europe/Berlin:20260618T200000
LOCATION:Burgruine Hohengeroldseck\, Schlossberg\, 77960 Seelbach - Schönbe
 rg
SUMMARY:Burgführungen auf der Hohengeroldseck\, Burgruine Hohengeroldseck
X-ALT-DESC;FMTTYPE=text/html:<strong>Kurzbeschreibung:</strong><br/>Die Bur
 g Hohengeroldseck gilt als Wahrzeichen unserer Region. Erkunden Sie auf ei
 ner spannenden und kurzweiligen Führung das imposante Bauwerk.<br /><stron
 g>Ort:</strong><br/>Burgruine Hohengeroldseck<br/>Schlossberg\, 77960 Seel
 bach - Schönberg<br /><strong>Veranstalter:</strong><br/>Gemeinde Seelbach
 <br /><strong>Termin:</strong><br/>Beginn: 18.06.2026\, 17:00 Uhr<br/>Ende
 : 18.06.2026<br /><strong>Tickets: </strong><br/>Anmeldung erforderlich in
  der Kultur- und Tourist-Info Seelbach | Tel: 07823 / 9494-52 | E-Mail: to
 urismus@seelbach-online.de  <br/>Preise:<br />\nErwachsene 5\,00 € <br />
 \nKinder (4-15 Jahre) 2\,50 €<br />\nFamilien (2 Erw. + 2 Kinder bis 15J.)
  10\,00 €<br />\nFür Gäste mit der Seelbacher Gästekarte kostenlos<br /><s
 trong>Link:</strong><br/><a href='https://ortenaukultur.de/de/veranstaltun
 gen/detail/veranstaltung/id/589511-burgfuehrungen-auf-der-hohengeroldseck/
 ?vt=1'>Zur Detailseite</a>
END:VEVENT
END:VCALENDAR
