BEGIN:VCALENDAR
VERSION:2.0
PRODID:-//ortenaukultur.de//NONSGML kigkonsult.se iCalcreator 2.41.92//
CALSCALE:GREGORIAN
METHOD:PUBLISH
UID:31313965-3361-4537-b634-656338366133
X-WR-TIMEZONE:Europe/Berlin
X-LIC-LOCATION:Europe/Berlin
BEGIN:VEVENT
UID:590217-kulturportal@ortenaukultur.de
DTSTAMP:20260422T003442Z
DESCRIPTION:Kurzbeschreibung:\n Im Rahmen der Literaturtage „Orte für Worte
 “ ist die preisgekrönte Singer/Songwriterin und „Geschichtenerzählerin“ Su
 zie Ungerleider wieder in Lahr zu sehen.\n Ort:\n Schlachthof - Kinder\, J
 ugend & Kultur\n Dreyspringstraße 16\, 77933 Lahr\n Veranstalter:\n lahrer
  rockwerkstatt e.v. + Schlachthof\n Termin:\n Beginn: 15.05.2026\, 20:30 U
 hr\n Ende: 15.05.2026\n Tickets:\n Tickets online kaufen\n https://eventfr
 og.de/de/p/konzert/folk/suzie-ungerleider-7425243654330018400.html\n Vorve
 rkauf: 16\,- / 12\,- (ermäßigt)\, Abendkasse: 19\,- / 16\,- (ermäßigt)\n L
 ink:\n Zur Detailseite
DTSTART;TZID=Europe/Berlin:20260515T203000
DTEND;TZID=Europe/Berlin:20260515T233000
LOCATION:Schlachthof - Kinder\, Jugend & Kultur\, Dreyspringstraße 16\, 779
 33 Lahr
SUMMARY:Suzie Ungerleider (Kanada)\, Schlachthof - Kinder\, Jugend & Kultur
X-ALT-DESC;FMTTYPE=text/html:<strong>Kurzbeschreibung:</strong><br/>Im Rahm
 en der Literaturtage „Orte für Worte“ ist die preisgekrönte Singer/Songwri
 terin und „Geschichtenerzählerin“ Suzie Ungerleider wieder in Lahr zu sehe
 n.<br /><strong>Ort:</strong><br/>Schlachthof - Kinder\, Jugend & Kultur<b
 r/>Dreyspringstraße 16\, 77933 Lahr<br /><strong>Veranstalter:</strong><br
 />lahrer rockwerkstatt e.v. + Schlachthof<br /><strong>Termin:</strong><br
 />Beginn: 15.05.2026\, 20:30 Uhr<br/>Ende: 15.05.2026<br /><strong>Tickets
 : </strong><br/><a  class='wco_cb_subtitle_link'  id='ticketlink'  href='h
 ttps://eventfrog.de/de/p/konzert/folk/suzie-ungerleider-742524365433001840
 0.html' target='_blank' title='Öffnet externen Link in einem neuen Fenster
 '>Tickets online kaufen</a><br/>https://eventfrog.de/de/p/konzert/folk/suz
 ie-ungerleider-7425243654330018400.html<br/>Vorverkauf: 16\,- / 12\,- (erm
 äßigt)\, Abendkasse: 19\,- / 16\,- (ermäßigt)<br /><strong>Link:</strong><
 br/><a href='https://ortenaukultur.de/de/veranstaltungen/detail/veranstalt
 ung/id/590217-suzie-ungerleider-kanada/?vt=1'>Zur Detailseite</a>
END:VEVENT
END:VCALENDAR
