BEGIN:VCALENDAR
VERSION:2.0
PRODID:-//ortenaukultur.de//NONSGML kigkonsult.se iCalcreator 2.41.92//
CALSCALE:GREGORIAN
METHOD:PUBLISH
UID:32386431-3961-4665-b065-623530653664
X-WR-TIMEZONE:Europe/Berlin
X-LIC-LOCATION:Europe/Berlin
BEGIN:VEVENT
UID:590225-kulturportal@ortenaukultur.de
DTSTAMP:20260421T204242Z
DESCRIPTION:Kurzbeschreibung:\n Kostenlose Führung zur Langen Nacht der Kul
 tur durch alle Abteilungen des Museums\n Ort:\n Museum im Ritterhaus\n Rit
 terstr. 10\, 77652 Offenburg\n Veranstalter:\n Museum im Ritterhaus Offenb
 urg\n Termin:\n Beginn: 24.04.2026\, 21:00 Uhr\n Ende: 25.04.2026\n Link:
 \n Zur Detailseite
DTSTART;TZID=Europe/Berlin:20260424T210000
DTEND;TZID=Europe/Berlin:20260425T000000
LOCATION:Museum im Ritterhaus\, Ritterstr. 10\, 77652 Offenburg
SUMMARY:Reise um die Welt \, Museum im Ritterhaus
X-ALT-DESC;FMTTYPE=text/html:<strong>Kurzbeschreibung:</strong><br/>Kostenl
 ose Führung zur Langen Nacht der Kultur durch alle Abteilungen des Museums
 <br /><strong>Ort:</strong><br/>Museum im Ritterhaus<br/>Ritterstr. 10\, 7
 7652 Offenburg<br /><strong>Veranstalter:</strong><br/>Museum im Ritterhau
 s Offenburg<br /><strong>Termin:</strong><br/>Beginn: 24.04.2026\, 21:00 U
 hr<br/>Ende: 25.04.2026<br /><strong>Link:</strong><br/><a href='https://o
 rtenaukultur.de/de/veranstaltungen/detail/veranstaltung/id/590225-reise-um
 -die-welt/?vt=1'>Zur Detailseite</a>
END:VEVENT
END:VCALENDAR
