BEGIN:VCALENDAR
VERSION:2.0
PRODID:-//ortenaukultur.de//NONSGML kigkonsult.se iCalcreator 2.41.92//
CALSCALE:GREGORIAN
METHOD:PUBLISH
UID:38316661-6234-4534-a262-363361653733
X-WR-TIMEZONE:Europe/Berlin
X-LIC-LOCATION:Europe/Berlin
BEGIN:VEVENT
UID:590254-kulturportal@ortenaukultur.de
DTSTAMP:20260421T204440Z
DESCRIPTION:Kurzbeschreibung:\n Kurs für Kinder von 4 - 5 Jahren in der Nat
 urkundeabteilung des Ritterhauses\n Ort:\n Museum im Ritterhaus\n Ritterst
 r. 10\, 77652 Offenburg\n Veranstalter:\n Museum im Ritterhaus Offenburg\n
  Termin:\n Beginn: 05.05.2026\, 15:00 Uhr\n Ende: 05.05.2026\n Link:\n Zur
  Detailseite
DTSTART;TZID=Europe/Berlin:20260505T150000
DTEND;TZID=Europe/Berlin:20260505T180000
LOCATION:Museum im Ritterhaus\, Ritterstr. 10\, 77652 Offenburg
SUMMARY:Miau\, miau - alles für die Katz\, Museum im Ritterhaus
X-ALT-DESC;FMTTYPE=text/html:<strong>Kurzbeschreibung:</strong><br/>Kurs fü
 r Kinder von 4 - 5 Jahren in der Naturkundeabteilung des Ritterhauses<br /
 ><strong>Ort:</strong><br/>Museum im Ritterhaus<br/>Ritterstr. 10\, 77652 
 Offenburg<br /><strong>Veranstalter:</strong><br/>Museum im Ritterhaus Off
 enburg<br /><strong>Termin:</strong><br/>Beginn: 05.05.2026\, 15:00 Uhr<br
 />Ende: 05.05.2026<br /><strong>Link:</strong><br/><a href='https://ortena
 ukultur.de/de/veranstaltungen/detail/veranstaltung/id/590254-miau-miau-all
 es-fuer-die-katz/?vt=1'>Zur Detailseite</a>
END:VEVENT
END:VCALENDAR
