BEGIN:VCALENDAR
VERSION:2.0
PRODID:-//ortenaukultur.de//NONSGML kigkonsult.se iCalcreator 2.41.92//
CALSCALE:GREGORIAN
METHOD:PUBLISH
UID:66343666-3063-4136-b461-313733373834
X-WR-TIMEZONE:Europe/Berlin
X-LIC-LOCATION:Europe/Berlin
BEGIN:VEVENT
UID:590271-kulturportal@ortenaukultur.de
DTSTAMP:20260421T223049Z
DESCRIPTION:Kurzbeschreibung:\n Eine Führung zur Kulturgeschichte des Essen
 s und Trinkens in der Steinzeit im Rahmen der DORT-Veranstaltungen\n Ort:
 \n Museum im Ritterhaus\n Ritterstr. 10\, 77652 Offenburg\n Veranstalter:
 \n Museum im Ritterhaus Offenburg\n Termin:\n Beginn: 07.05.2026\, 19:00 U
 hr\n Ende: 07.05.2026\n Link:\n Zur Detailseite
DTSTART;TZID=Europe/Berlin:20260507T190000
DTEND;TZID=Europe/Berlin:20260507T220000
LOCATION:Museum im Ritterhaus\, Ritterstr. 10\, 77652 Offenburg
SUMMARY:Aufgetischt! Essen und Trinken in der Jungsteinzeit\, Museum im Rit
 terhaus
X-ALT-DESC;FMTTYPE=text/html:<strong>Kurzbeschreibung:</strong><br/>Eine Fü
 hrung zur Kulturgeschichte des Essens und Trinkens in der Steinzeit im Rah
 men der DORT-Veranstaltungen<br /><strong>Ort:</strong><br/>Museum im Ritt
 erhaus<br/>Ritterstr. 10\, 77652 Offenburg<br /><strong>Veranstalter:</str
 ong><br/>Museum im Ritterhaus Offenburg<br /><strong>Termin:</strong><br/>
 Beginn: 07.05.2026\, 19:00 Uhr<br/>Ende: 07.05.2026<br /><strong>Link:</st
 rong><br/><a href='https://ortenaukultur.de/de/veranstaltungen/detail/vera
 nstaltung/id/590271-aufgetischt-essen-und-trinken-in-der-jungsteinzeit/?vt
 =1'>Zur Detailseite</a>
END:VEVENT
END:VCALENDAR
