BEGIN:VCALENDAR
VERSION:2.0
PRODID:-//ortenaukultur.de//NONSGML kigkonsult.se iCalcreator 2.41.92//
CALSCALE:GREGORIAN
METHOD:PUBLISH
UID:64333038-3232-4266-b337-393431326534
X-WR-TIMEZONE:Europe/Berlin
X-LIC-LOCATION:Europe/Berlin
BEGIN:VEVENT
UID:590321-kulturportal@ortenaukultur.de
DTSTAMP:20260421T224432Z
DESCRIPTION:Kurzbeschreibung:\n Erfahren Sie mehr über die Kleinstadtperle 
 Oberkirch bei einer historischen Stadtführung.\n Ort:\n Tourist Informatio
 n\n Bahnhofstraße 16\, 77704 Oberkirch\n Veranstalter:\n Renchtal Tourismu
 s GmbH\n Termin:\n Beginn: 07.03.2026\, 10:30 Uhr\n Ende: 07.03.2026\n Lin
 k:\n Zur Detailseite
DTSTART;TZID=Europe/Berlin:20260307T103000
DTEND;TZID=Europe/Berlin:20260307T133000
LOCATION:Tourist Information\, Bahnhofstraße 16\, 77704 Oberkirch
SUMMARY:Historische Stadtführung in Oberkirch\, Tourist Information
X-ALT-DESC;FMTTYPE=text/html:<strong>Kurzbeschreibung:</strong><br/>Erfahre
 n Sie mehr über die Kleinstadtperle Oberkirch bei einer historischen Stadt
 führung.<br /><strong>Ort:</strong><br/>Tourist Information<br/>Bahnhofstr
 aße 16\, 77704 Oberkirch<br /><strong>Veranstalter:</strong><br/>Renchtal 
 Tourismus GmbH<br /><strong>Termin:</strong><br/>Beginn: 07.03.2026\, 10:3
 0 Uhr<br/>Ende: 07.03.2026<br /><strong>Link:</strong><br/><a href='https:
 //ortenaukultur.de/de/veranstaltungen/detail/veranstaltung/id/590321-histo
 rische-stadtfuehrung-in-oberkirch/?vt=1'>Zur Detailseite</a>
END:VEVENT
END:VCALENDAR
