BEGIN:VCALENDAR
VERSION:2.0
PRODID:-//ortenaukultur.de//NONSGML kigkonsult.se iCalcreator 2.41.92//
CALSCALE:GREGORIAN
METHOD:PUBLISH
UID:33366363-6237-4737-a637-313265386537
X-WR-TIMEZONE:Europe/Berlin
X-LIC-LOCATION:Europe/Berlin
BEGIN:VEVENT
UID:590626-kulturportal@ortenaukultur.de
DTSTAMP:20260421T233954Z
DESCRIPTION:Kurzbeschreibung:\n Mit drei Bands an einem Abend voller Energi
 e in den Mai feiern. Mit PigAss\, No Idea und Big Mama\n Ort:\n Tellerbau 
 (Kulturzentrum Obere Fabrik)\n Fabrikstr. 5\, 77736 Zell am Harmersbach\n 
 Veranstalter:\n Maurice Armbruster\n Termin:\n Beginn: 30.04.2026\, 20:00 
 Uhr\n Ende: 30.04.2026\n Link:\n Zur Detailseite
DTSTART;TZID=Europe/Berlin:20260430T200000
DTEND;TZID=Europe/Berlin:20260430T230000
LOCATION:Tellerbau (Kulturzentrum Obere Fabrik)\, Fabrikstr. 5\, 77736 Zell
  am Harmersbach
SUMMARY:Bock auf Rock\, Tellerbau (Kulturzentrum Obere Fabrik)
X-ALT-DESC;FMTTYPE=text/html:<strong>Kurzbeschreibung:</strong><br/>Mit dre
 i Bands an einem Abend voller Energie in den Mai feiern. Mit PigAss\, No I
 dea und Big Mama<br /><strong>Ort:</strong><br/>Tellerbau (Kulturzentrum O
 bere Fabrik)<br/>Fabrikstr. 5\, 77736 Zell am Harmersbach<br /><strong>Ver
 anstalter:</strong><br/>Maurice Armbruster<br /><strong>Termin:</strong><b
 r/>Beginn: 30.04.2026\, 20:00 Uhr<br/>Ende: 30.04.2026<br /><strong>Link:<
 /strong><br/><a href='https://ortenaukultur.de/de/veranstaltungen/detail/v
 eranstaltung/id/590626-bock-auf-rock/?vt=1'>Zur Detailseite</a>
END:VEVENT
END:VCALENDAR
