BEGIN:VCALENDAR
VERSION:2.0
PRODID:-//ortenaukultur.de//NONSGML kigkonsult.se iCalcreator 2.41.92//
CALSCALE:GREGORIAN
METHOD:PUBLISH
UID:66386532-3539-4664-b930-363730386136
X-WR-TIMEZONE:Europe/Berlin
X-LIC-LOCATION:Europe/Berlin
BEGIN:VEVENT
UID:590848-kulturportal@ortenaukultur.de
DTSTAMP:20260421T231709Z
DESCRIPTION:Kurzbeschreibung:\n Heilpflanzen entdecken und kennenlernen\; D
 er Seepark ist eine wahre Fundgrube unterschiedlichster Heilkräuter.\n Ort
 :\n Seepark / Haus am See\n Seepark 1\, 77933 Lahr\n Veranstalter:\n Parkp
 latz Haus am See\n Termin:\n Beginn: 09.05.2026\, 15:00 Uhr\n Ende: 09.05.
 2026\n Tickets:\n \n https://erlebe.lahr.de/oeffentliche-fuehrungen-buchen
 .274465.htm#/experience/FIT00020072495334533\n 12\,00 Euro pro Person\n Di
 rekt bei der Führerin vor Ort zu bezahlen\n Bitte Block und Stift mitbring
 en!\n Link:\n Zur Detailseite
DTSTART;TZID=Europe/Berlin:20260509T150000
DTEND;TZID=Europe/Berlin:20260509T180000
LOCATION:Seepark / Haus am See\, Seepark 1\, 77933 Lahr
SUMMARY:Kräuterführung im Seepark \, Seepark / Haus am See
X-ALT-DESC;FMTTYPE=text/html:<strong>Kurzbeschreibung:</strong><br/>Heilpfl
 anzen entdecken und kennenlernen\; Der Seepark ist eine wahre Fundgrube un
 terschiedlichster Heilkräuter.<br /><strong>Ort:</strong><br/>Seepark / Ha
 us am See<br/>Seepark 1\, 77933 Lahr<br /><strong>Veranstalter:</strong><b
 r/>Parkplatz Haus am See<br /><strong>Termin:</strong><br/>Beginn: 09.05.2
 026\, 15:00 Uhr<br/>Ende: 09.05.2026<br /><strong>Tickets: </strong><br/><
 a  class='wco_cb_subtitle_link'  id='ticketlink'  href='https://erlebe.lah
 r.de/oeffentliche-fuehrungen-buchen.274465.htm#/experience/FIT000200724953
 34533' target='_blank' title='Öffnet externen Link in einem neuen Fenster'
 ></a><br/>https://erlebe.lahr.de/oeffentliche-fuehrungen-buchen.274465.htm
 #/experience/FIT00020072495334533<br/>12\,00 Euro pro Person <br />\nDirek
 t bei der Führerin vor Ort zu bezahlen<br />\nBitte Block und Stift mitbri
 ngen!<br /><strong>Link:</strong><br/><a href='https://ortenaukultur.de/de
 /veranstaltungen/detail/veranstaltung/id/590848-kraeuterfuehrung-im-seepar
 k/?vt=1'>Zur Detailseite</a>
END:VEVENT
END:VCALENDAR
