BEGIN:VCALENDAR
VERSION:2.0
PRODID:-//ortenaukultur.de//NONSGML kigkonsult.se iCalcreator 2.41.92//
CALSCALE:GREGORIAN
METHOD:PUBLISH
UID:36643365-3939-4330-b165-363836386563
X-WR-TIMEZONE:Europe/Berlin
X-LIC-LOCATION:Europe/Berlin
BEGIN:VEVENT
UID:590864-kulturportal@ortenaukultur.de
DTSTAMP:20260422T003326Z
DESCRIPTION:Kurzbeschreibung:\n Verkauf von Glas\, Geschirr und Haushaltswa
 ren zugunsten der Arbeit der Illenau Werkstätten.\n Ort:\n Illenau Werkstä
 tten\, Achern\n Veranstalter:\n Forum Illenau & Illenau-Werkstätten e.V.\n
  Termin:\n Beginn: 25.04.2026\, 11:00 Uhr\n Ende: 25.04.2026\n Tickets:\n 
 Tickets\n Der Eintritt von 2 € gilt als Gutschein\n Link:\n Zur Detailseit
 e
DTSTART;TZID=Europe/Berlin:20260425T110000
DTEND;TZID=Europe/Berlin:20260425T140000
LOCATION:Illenau Werkstätten\, Achern
SUMMARY:Geschirr- und Glasbasar \, Illenau Werkstätten
X-ALT-DESC;FMTTYPE=text/html:<strong>Kurzbeschreibung:</strong><br/>Verkauf
  von Glas\, Geschirr und Haushaltswaren zugunsten der Arbeit der Illenau W
 erkstätten. <br /><strong>Ort:</strong><br/>Illenau Werkstätten\, Achern<b
 r /><strong>Veranstalter:</strong><br/>Forum Illenau & Illenau-Werkstätten
  e.V.<br /><strong>Termin:</strong><br/>Beginn: 25.04.2026\, 11:00 Uhr<br/
 >Ende: 25.04.2026<br /><strong>Tickets: </strong><br/><a  class='wco_cb_su
 btitle_link'  id='ticketlink'  href='mailto:info@illenau-werkstaetten.de' 
 target='_blank' >Tickets</a><br/>Der Eintritt von 2 € gilt als Gutschein<b
 r /><strong>Link:</strong><br/><a href='https://ortenaukultur.de/de/verans
 taltungen/detail/veranstaltung/id/590864-geschirr-und-glasbasar/?vt=1'>Zur
  Detailseite</a>
END:VEVENT
END:VCALENDAR
