BEGIN:VCALENDAR
VERSION:2.0
PRODID:-//ortenaukultur.de//NONSGML kigkonsult.se iCalcreator 2.41.92//
CALSCALE:GREGORIAN
METHOD:PUBLISH
UID:66313163-3131-4337-b834-633831393334
X-WR-TIMEZONE:Europe/Berlin
X-LIC-LOCATION:Europe/Berlin
BEGIN:VEVENT
UID:591377-kulturportal@ortenaukultur.de
DTSTAMP:20260423T004046Z
DESCRIPTION:Kurzbeschreibung:\n Als Adlige Stifterinnen\, selbstbewusste Bü
 rgerinnen und fleißige Fabrikarbeiterinnen haben Frauen die Geschichte der
  Stadt Lahr geprägt.\n Ort:\n Stadtmuseum Lahr\, Tonofenfabrik\, Kreuzstra
 ße 6\n Kreuzstr. 6\, 77933 Lahr\n Veranstalter:\n Stadt Lahr Stadtmarketin
 g\n Termin:\n Beginn: 13.06.2026\, 15:00 Uhr\n Ende: 13.06.2026\n Tickets:
 \n \n https://erlebe.lahr.de/oeffentliche-fuehrungen-buchen.274465.htm#/ex
 perience/FIT00020072495356277\n kostenfrei\n \n Link:\n Zur Detailseite
DTSTART;TZID=Europe/Berlin:20260613T150000
DTEND;TZID=Europe/Berlin:20260613T180000
LOCATION:Stadtmuseum Lahr\, Tonofenfabrik\, Kreuzstraße 6\, Kreuzstr. 6\, 7
 7933 Lahr
SUMMARY:Stadtführung - Lebenswelten der Lahrer Frauen\, Stadtmuseum Lahr - 
 Tonofenfabrik
X-ALT-DESC;FMTTYPE=text/html:<strong>Kurzbeschreibung:</strong><br/>Als Adl
 ige Stifterinnen\, selbstbewusste Bürgerinnen und fleißige Fabrikarbeiteri
 nnen haben Frauen die Geschichte der Stadt Lahr geprägt. <br /><strong>Ort
 :</strong><br/>Stadtmuseum Lahr\, Tonofenfabrik\, Kreuzstraße 6<br/>Kreuzs
 tr. 6\, 77933 Lahr<br /><strong>Veranstalter:</strong><br/>Stadt Lahr Stad
 tmarketing<br /><strong>Termin:</strong><br/>Beginn: 13.06.2026\, 15:00 Uh
 r<br/>Ende: 13.06.2026<br /><strong>Tickets: </strong><br/><a  class='wco_
 cb_subtitle_link'  id='ticketlink'  href='https://erlebe.lahr.de/oeffentli
 che-fuehrungen-buchen.274465.htm#/experience/FIT00020072495356277' target=
 '_blank' title='Öffnet externen Link in einem neuen Fenster'></a><br/>http
 s://erlebe.lahr.de/oeffentliche-fuehrungen-buchen.274465.htm#/experience/F
 IT00020072495356277<br/>kostenfrei<br />\n<br /><strong>Link:</strong><br/
 ><a href='https://ortenaukultur.de/de/veranstaltungen/detail/veranstaltung
 /id/591377-stadtfuehrung-lebenswelten-der-lahrer-frauen/?vt=1'>Zur Details
 eite</a>
END:VEVENT
END:VCALENDAR
