BEGIN:VCALENDAR
VERSION:2.0
PRODID:-//ortenaukultur.de//NONSGML kigkonsult.se iCalcreator 2.41.92//
CALSCALE:GREGORIAN
METHOD:PUBLISH
UID:66316638-3564-4431-a264-393236303364
X-WR-TIMEZONE:Europe/Berlin
X-LIC-LOCATION:Europe/Berlin
BEGIN:VEVENT
UID:591385-kulturportal@ortenaukultur.de
DTSTAMP:20260421T212810Z
DESCRIPTION:Kurzbeschreibung:\n Eröffnung der Sonderausstellung '33 Demokra
 t*innen' am 30. April um 18 Uhr. Sie sind herzlich eingeladen!\n Ort:\n Sa
 lmen Foyer\n Langestraße 52\, 77652 Offenburg\n Veranstalter:\n Der Salmen
 \n Termin:\n Beginn: 30.04.2026\, 18:00 Uhr\n Ende: 30.04.2026\n Link:\n Z
 ur Detailseite
DTSTART;TZID=Europe/Berlin:20260430T180000
DTEND;TZID=Europe/Berlin:20260430T210000
LOCATION:Salmen Foyer\, Langestraße 52\, 77652 Offenburg
SUMMARY:Ausstellungseröffnung '33 Demokrat*innen'\, Salmen Foyer
X-ALT-DESC;FMTTYPE=text/html:<strong>Kurzbeschreibung:</strong><br/>Eröffnu
 ng der Sonderausstellung '33 Demokrat*innen' am 30. April um 18 Uhr. Sie s
 ind herzlich eingeladen!<br /><strong>Ort:</strong><br/>Salmen Foyer<br/>L
 angestraße 52\, 77652 Offenburg<br /><strong>Veranstalter:</strong><br/>De
 r Salmen<br /><strong>Termin:</strong><br/>Beginn: 30.04.2026\, 18:00 Uhr<
 br/>Ende: 30.04.2026<br /><strong>Link:</strong><br/><a href='https://orte
 naukultur.de/de/veranstaltungen/detail/veranstaltung/id/591385-ausstellung
 seroeffnung-33-demokrat-innen/?vt=1'>Zur Detailseite</a>
END:VEVENT
END:VCALENDAR
